BEGIN:VCALENDAR
VERSION:2.0
PRODID:-//OOCC - ECPv6.15.17.1//NONSGML v1.0//EN
CALSCALE:GREGORIAN
METHOD:PUBLISH
X-ORIGINAL-URL:https://stopoverdose.maryland.gov
X-WR-CALDESC:Events for OOCC
REFRESH-INTERVAL;VALUE=DURATION:PT1H
X-Robots-Tag:noindex
X-PUBLISHED-TTL:PT1H
BEGIN:VTIMEZONE
TZID:America/New_York
BEGIN:DAYLIGHT
TZOFFSETFROM:-0500
TZOFFSETTO:-0400
TZNAME:EDT
DTSTART:20250309T070000
END:DAYLIGHT
BEGIN:STANDARD
TZOFFSETFROM:-0400
TZOFFSETTO:-0500
TZNAME:EST
DTSTART:20251102T060000
END:STANDARD
BEGIN:DAYLIGHT
TZOFFSETFROM:-0500
TZOFFSETTO:-0400
TZNAME:EDT
DTSTART:20260308T070000
END:DAYLIGHT
BEGIN:STANDARD
TZOFFSETFROM:-0400
TZOFFSETTO:-0500
TZNAME:EST
DTSTART:20261101T060000
END:STANDARD
BEGIN:DAYLIGHT
TZOFFSETFROM:-0500
TZOFFSETTO:-0400
TZNAME:EDT
DTSTART:20270314T070000
END:DAYLIGHT
BEGIN:STANDARD
TZOFFSETFROM:-0400
TZOFFSETTO:-0500
TZNAME:EST
DTSTART:20271107T060000
END:STANDARD
END:VTIMEZONE
BEGIN:VEVENT
DTSTART;TZID=America/New_York:20260210T090000
DTEND;TZID=America/New_York:20260210T103000
DTSTAMP:20260420T081011
CREATED:20251223T003117Z
LAST-MODIFIED:20260203T203721Z
UID:9970-1770714000-1770719400@stopoverdose.maryland.gov
SUMMARY:Overdose Prevention Advocacy Day Rally
DESCRIPTION:Announcing Maryland’s Second Annual Overdose Prevention Awareness Advocacy Day Rally! \n \nThis event will bring together individuals and organizations committed to raising awareness and advocating for meaningful action to address the impacts of the overdose crisis in our communities. Featured speakers include Lieutenant Governor Aruna Miller\, Special Secretary of Overdose Response Emily Keller\, and other state and local officials. Community organizations will be invited to speak as well. \nEvent Details \nDate: Tuesday\, February 10\, 2026 \nSpeakers: 9 am – 10:30 am \nEngagement with Legislators: after 10:30 am \nLocation: Lawyer’s Mall in Annapolis\, MD \n  \nWhether you’re an advocate\, a community leader\, or someone who has been personally affected\, we hope you can join us to urge our leaders to continue their efforts on this important issue. This event is open to the public\, and all are welcome to attend. \nRegistration Form: https://forms.gle/Jzwnt5MrcUyUXr5f9
URL:https://stopoverdose.maryland.gov/calendar/overdose-prevention-advocacy-day-rally/
LOCATION:Lawyer’s Mall\, 90 State Circle\, Annapolis\, Maryland\, 21401
END:VEVENT
BEGIN:VEVENT
DTSTART;TZID=America/New_York:20260212T150000
DTEND;TZID=America/New_York:20260212T160000
DTSTAMP:20260420T081011
CREATED:20260206T183010Z
LAST-MODIFIED:20260206T183104Z
UID:10244-1770908400-1770912000@stopoverdose.maryland.gov
SUMMARY:MORAC Citizen Advisory Workgroup (Virtual)
DESCRIPTION:Direct input from community members who have been impacted by substance use and overdose is an essential component of Maryland’s overdose response strategy. To help facilitate public input\, Lt. Governor Aruna Miller is impaneling a Citizen Advisory Workgroup to provide recommendations to the Maryland Overdose Response Advisory Council (MORAC) from the perspective of individuals in Maryland who currently or have previously provided and/or utilized substance use disorder services in Maryland. \nNext Meeting: Thursday\, February 12\, 2026 (3–4 pm)\nMeeting Link: https://meet.google.com/wpr-qxsm-opj \nPublic Comment Submission Form
URL:https://stopoverdose.maryland.gov/calendar/morac-citizen-advisory-workgroup-virtual/
LOCATION:MD
END:VEVENT
BEGIN:VEVENT
DTSTART;TZID=America/New_York:20260223T140000
DTEND;TZID=America/New_York:20260223T150000
DTSTAMP:20260420T081011
CREATED:20260124T021447Z
LAST-MODIFIED:20260218T160408Z
UID:10135-1771855200-1771858800@stopoverdose.maryland.gov
SUMMARY:MORAC Citizen Advisory Workgroup (virtual)
DESCRIPTION:Direct input from community members who have been impacted by substance use and overdose is an essential component of Maryland’s overdose response strategy. To help facilitate public input\, Lt. Governor Aruna Miller is impaneling a Citizen Advisory Workgroup to provide recommendations to the Maryland Overdose Response Advisory Council (MORAC) from the perspective of individuals in Maryland who currently or have previously provided and/or utilized substance use disorder services in Maryland. \nMeeting Link \nPublic Comment Submission Form
URL:https://stopoverdose.maryland.gov/calendar/morac-citizen-advisory-workgroup-in-person/
LOCATION:MD
END:VEVENT
BEGIN:VEVENT
DTSTART;TZID=America/New_York:20260224T170000
DTEND;TZID=America/New_York:20260224T180000
DTSTAMP:20260420T081011
CREATED:20260220T215059Z
LAST-MODIFIED:20260220T221026Z
UID:10460-1771952400-1771956000@stopoverdose.maryland.gov
SUMMARY:Buprenorphine Access Workgroup Meeting (virtual)
DESCRIPTION:Buprenorphine Access Workgroup\nAs required by Maryland House Bill 1131 of 2025\, Maryland’s Office of Overdose Response is convening a workgroup to study access to buprenorphine in the state. The workgroup will examine a variety of topics related to the current status of buprenorphine services in Maryland\, including access to care\, regions with gaps in services\, funding\, innovative strategies to expand access\, and more. The workgroup shall submit its findings to the Governor and General Assembly by December 31st\, 2025. \nTuesday\, February 24\, 2026 (5–6 pm)\nMeeting Link \nRecordings: All meetings of the Buprenorphine Access Workgroup are recorded for recordkeeping purposes. These recordings can be made available to the public upon request. If you would like to access recordings of previous meetings\, please email StopOverdose@maryland.gov. Your request should indicate the meeting dates for each recording you wish to access and whether video captions are required.
URL:https://stopoverdose.maryland.gov/calendar/buprenorphine-access-workgroup-meeting-4/
LOCATION:MD
ORGANIZER;CN="Maryland's Office of Overdose Response":MAILTO:stopoverdose@maryland.gov
END:VEVENT
END:VCALENDAR