BEGIN:VCALENDAR
VERSION:2.0
PRODID:-//OOCC - ECPv6.15.20//NONSGML v1.0//EN
CALSCALE:GREGORIAN
METHOD:PUBLISH
X-WR-CALNAME:OOCC
X-ORIGINAL-URL:https://stopoverdose.maryland.gov
X-WR-CALDESC:Events for OOCC
REFRESH-INTERVAL;VALUE=DURATION:PT1H
X-Robots-Tag:noindex
X-PUBLISHED-TTL:PT1H
BEGIN:VTIMEZONE
TZID:America/New_York
BEGIN:DAYLIGHT
TZOFFSETFROM:-0500
TZOFFSETTO:-0400
TZNAME:EDT
DTSTART:20250309T070000
END:DAYLIGHT
BEGIN:STANDARD
TZOFFSETFROM:-0400
TZOFFSETTO:-0500
TZNAME:EST
DTSTART:20251102T060000
END:STANDARD
BEGIN:DAYLIGHT
TZOFFSETFROM:-0500
TZOFFSETTO:-0400
TZNAME:EDT
DTSTART:20260308T070000
END:DAYLIGHT
BEGIN:STANDARD
TZOFFSETFROM:-0400
TZOFFSETTO:-0500
TZNAME:EST
DTSTART:20261101T060000
END:STANDARD
BEGIN:DAYLIGHT
TZOFFSETFROM:-0500
TZOFFSETTO:-0400
TZNAME:EDT
DTSTART:20270314T070000
END:DAYLIGHT
BEGIN:STANDARD
TZOFFSETFROM:-0400
TZOFFSETTO:-0500
TZNAME:EST
DTSTART:20271107T060000
END:STANDARD
END:VTIMEZONE
BEGIN:VEVENT
DTSTART;TZID=America/New_York:20260323T140000
DTEND;TZID=America/New_York:20260323T153000
DTSTAMP:20260423T234030
CREATED:20260218T160827Z
LAST-MODIFIED:20260218T160827Z
UID:10442-1774274400-1774279800@stopoverdose.maryland.gov
SUMMARY:MORAC Citizen Advisory Workgroup (in-person)
DESCRIPTION:Direct input from community members who have been impacted by substance use and overdose is an essential component of Maryland’s overdose response strategy. To help facilitate public input\, Lt. Governor Aruna Miller is impaneling a Citizen Advisory Workgroup to provide recommendations to the Maryland Overdose Response Advisory Council (MORAC) from the perspective of individuals in Maryland who currently or have previously provided and/or utilized substance use disorder services in Maryland. \nPublic Comment Submission Form \nLocation:\n100 Community Place\nFirst Floor Conference Room\, Side B\nCrownsville\, MD 21032
URL:https://stopoverdose.maryland.gov/calendar/morac-citizen-advisory-workgroup-in-person-2/
LOCATION:Community Place\, Crownsville\, 100 Community Place\, Crownsvile\, MD\, 21032\, United States
END:VEVENT
BEGIN:VEVENT
DTSTART;TZID=America/New_York:20260324T170000
DTEND;TZID=America/New_York:20260324T180000
DTSTAMP:20260423T234031
CREATED:20260316T201546Z
LAST-MODIFIED:20260316T201754Z
UID:10643-1774371600-1774375200@stopoverdose.maryland.gov
SUMMARY:Buprenorphine Access Workgroup Meeting (virtual)
DESCRIPTION:Buprenorphine Access Workgroup\nAs required by Maryland House Bill 1131 of 2025\, Maryland’s Office of Overdose Response is convening a workgroup to study access to buprenorphine in the state. The workgroup will examine a variety of topics related to the current status of buprenorphine services in Maryland\, including access to care\, regions with gaps in services\, funding\, innovative strategies to expand access\, and more. The workgroup shall submit its findings to the Governor and General Assembly by December 31st\, 2025. \nTuesday\, March 24\, 2026 (5–6 pm)\nMeeting Link \nRecordings: All meetings of the Buprenorphine Access Workgroup are recorded for recordkeeping purposes. These recordings can be made available to the public upon request. If you would like to access recordings of previous meetings\, please email StopOverdose@maryland.gov. Your request should indicate the meeting dates for each recording you wish to access and whether video captions are required.
URL:https://stopoverdose.maryland.gov/calendar/buprenorphine-access-workgroup-meeting-virtual-5/
END:VEVENT
BEGIN:VEVENT
DTSTART;TZID=America/New_York:20260331T090000
DTEND;TZID=America/New_York:20260331T170000
DTSTAMP:20260423T234031
CREATED:20260209T194305Z
LAST-MODIFIED:20260217T193718Z
UID:10255-1774947600-1774976400@stopoverdose.maryland.gov
SUMMARY:2026 Best Practices Conference
DESCRIPTION:SAVE THE DATE! Maryland’s Office of Overdose Response is pleased to announce the return of our in-person Best Practices Conference! This will bring together leaders\, practitioners\, individuals with lived experience\, and community partners to strengthen our collective efforts to reduce overdoses across Maryland and to increase pathways to substance use recovery. \nDetails on how to register will be released in the coming weeks. \nInterested in presenting? Share your presentation proposal with us using this Presentation Proposal Form.
URL:https://stopoverdose.maryland.gov/calendar/2026-best-practices-conference/
LOCATION:Crowne Plaza\, Annapolis\, 173 Jennifer Rd\,\, Annapolis\, MD\, 21401\, United States
ORGANIZER;CN="Maryland's Office of Overdose Response":MAILTO:stopoverdose@maryland.gov
END:VEVENT
BEGIN:VEVENT
DTSTART;TZID=America/New_York:20260331T160000
DTEND;TZID=America/New_York:20260331T170000
DTSTAMP:20260423T234031
CREATED:20260217T192649Z
LAST-MODIFIED:20260217T200119Z
UID:10398-1774972800-1774976400@stopoverdose.maryland.gov
SUMMARY:Opioid Restitution Fund Advisory Council Meeting (in person)
DESCRIPTION:Maryland’s Opioid Restitution Fund (ORF) Advisory Council was established in 2022 to provide recommendations regarding the use of prescription opioid-related legal settlement funds. As specified by state statute (Maryland Health General Article §7.5–903)\, the council consists of 12 members who serve for two years. \nTuesday\, March 31\, 2026 (in person)\n4–5 pm\nCrowne Plaza\, Annapolis\n173 Jennifer Rd. (Room TBD)\nAnnapolis\, MD 21401 \nNOTE: This meeting is taking place during the 2026 Best Practices Conference\, hosted by Maryland’s Office of Overdose Response. Registration for the conference is not required to attend this meeting.
URL:https://stopoverdose.maryland.gov/calendar/opioid-restitution-fund-advisory-council-meeting-in-person/
LOCATION:Crowne Plaza\, Annapolis\, 173 Jennifer Rd\,\, Annapolis\, MD\, 21401\, United States
END:VEVENT
BEGIN:VEVENT
DTSTART;TZID=America/New_York:20260407T170000
DTEND;TZID=America/New_York:20260407T180000
DTSTAMP:20260423T234031
CREATED:20260220T220852Z
LAST-MODIFIED:20260316T201626Z
UID:10485-1775581200-1775584800@stopoverdose.maryland.gov
SUMMARY:Buprenorphine Access Workgroup Meeting (virtual)
DESCRIPTION:Buprenorphine Access Workgroup\nAs required by Maryland House Bill 1131 of 2025\, Maryland’s Office of Overdose Response is convening a workgroup to study access to buprenorphine in the state. The workgroup will examine a variety of topics related to the current status of buprenorphine services in Maryland\, including access to care\, regions with gaps in services\, funding\, innovative strategies to expand access\, and more. The workgroup shall submit its findings to the Governor and General Assembly by December 31st\, 2025. \nTuesday\, April 7\, 2026 (5–6 pm)\nMeeting Link \nRecordings: All meetings of the Buprenorphine Access Workgroup are recorded for recordkeeping purposes. These recordings can be made available to the public upon request. If you would like to access recordings of previous meetings\, please email StopOverdose@maryland.gov. Your request should indicate the meeting dates for each recording you wish to access and whether video captions are required.
URL:https://stopoverdose.maryland.gov/calendar/buprenorphine-access-workgroup-meeting-virtual-4/
ORGANIZER;CN="Maryland's Office of Overdose Response":MAILTO:stopoverdose@maryland.gov
END:VEVENT
BEGIN:VEVENT
DTSTART;TZID=America/New_York:20260420T133000
DTEND;TZID=America/New_York:20260420T143000
DTSTAMP:20260423T234031
CREATED:20260417T131447Z
LAST-MODIFIED:20260417T132255Z
UID:10991-1776691800-1776695400@stopoverdose.maryland.gov
SUMMARY:MORAC Citizen Advisory Workgroup (virtual)
DESCRIPTION:Direct input from community members who have been impacted by substance use and overdose is an essential component of Maryland’s overdose response strategy. To help facilitate public input\, Lt. Governor Aruna Miller is impaneling a Citizen Advisory Workgroup to provide recommendations to the Maryland Overdose Response Advisory Council (MORAC) from the perspective of individuals in Maryland who currently or have previously provided and/or utilized substance use disorder services in Maryland. \nLearn more at StopOverdose.maryland.gov/MORAC. \nVirtual: Monday\, April 20\, 2026 (1:30–2:30 pm)\nMeeting Link | Public Comment Submission Form
URL:https://stopoverdose.maryland.gov/calendar/morac-citizen-advisory-workgroup-virtual-3/
END:VEVENT
BEGIN:VEVENT
DTSTART;TZID=America/New_York:20260421T170000
DTEND;TZID=America/New_York:20260421T180000
DTSTAMP:20260423T234031
CREATED:20260316T201856Z
LAST-MODIFIED:20260316T201856Z
UID:10647-1776790800-1776794400@stopoverdose.maryland.gov
SUMMARY:Buprenorphine Access Workgroup Meeting (virtual)
DESCRIPTION:Buprenorphine Access Workgroup\nAs required by Maryland House Bill 1131 of 2025\, Maryland’s Office of Overdose Response is convening a workgroup to study access to buprenorphine in the state. The workgroup will examine a variety of topics related to the current status of buprenorphine services in Maryland\, including access to care\, regions with gaps in services\, funding\, innovative strategies to expand access\, and more. The workgroup shall submit its findings to the Governor and General Assembly by December 31st\, 2025. \nTuesday\, April 21\, 2026 (5–6 pm)\nMeeting Link \nRecordings: All meetings of the Buprenorphine Access Workgroup are recorded for recordkeeping purposes. These recordings can be made available to the public upon request. If you would like to access recordings of previous meetings\, please email StopOverdose@maryland.gov. Your request should indicate the meeting dates for each recording you wish to access and whether video captions are required.
URL:https://stopoverdose.maryland.gov/calendar/buprenorphine-access-workgroup-meeting-virtual-6/
END:VEVENT
BEGIN:VEVENT
DTSTART;TZID=America/New_York:20260429T100000
DTEND;TZID=America/New_York:20260429T113000
DTSTAMP:20260423T234031
CREATED:20260417T131946Z
LAST-MODIFIED:20260417T132307Z
UID:11001-1777456800-1777462200@stopoverdose.maryland.gov
SUMMARY:MORAC Citizen Advisory Workgroup (in-person)
DESCRIPTION:Direct input from community members who have been impacted by substance use and overdose is an essential component of Maryland’s overdose response strategy. To help facilitate public input\, Lt. Governor Aruna Miller is impaneling a Citizen Advisory Workgroup to provide recommendations to the Maryland Overdose Response Advisory Council (MORAC) from the perspective of individuals in Maryland who currently or have previously provided and/or utilized substance use disorder services in Maryland. \nLearn more at StopOverdose.maryland.gov/MORAC. \nPublic Comment Submission Form \nLocation:\n100 Community Place\nFirst Floor Conference Room\, Side B\nCrownsville\, MD 21032
URL:https://stopoverdose.maryland.gov/calendar/morac-citizen-advisory-workgroup-in-person-3/
LOCATION:Community Place\, Crownsville\, 100 Community Place\, Crownsvile\, MD\, 21032\, United States
END:VEVENT
BEGIN:VEVENT
DTSTART;TZID=America/New_York:20260505T170000
DTEND;TZID=America/New_York:20260505T180000
DTSTAMP:20260423T234031
CREATED:20260316T201939Z
LAST-MODIFIED:20260316T201939Z
UID:10646-1778000400-1778004000@stopoverdose.maryland.gov
SUMMARY:Buprenorphine Access Workgroup Meeting (virtual)
DESCRIPTION:Buprenorphine Access Workgroup\nAs required by Maryland House Bill 1131 of 2025\, Maryland’s Office of Overdose Response is convening a workgroup to study access to buprenorphine in the state. The workgroup will examine a variety of topics related to the current status of buprenorphine services in Maryland\, including access to care\, regions with gaps in services\, funding\, innovative strategies to expand access\, and more. The workgroup shall submit its findings to the Governor and General Assembly by December 31st\, 2025. \nTuesday\, May 5\, 2026 (5–6 pm)\nMeeting Link \nRecordings: All meetings of the Buprenorphine Access Workgroup are recorded for recordkeeping purposes. These recordings can be made available to the public upon request. If you would like to access recordings of previous meetings\, please email StopOverdose@maryland.gov. Your request should indicate the meeting dates for each recording you wish to access and whether video captions are required.
URL:https://stopoverdose.maryland.gov/calendar/buprenorphine-access-workgroup-meeting-virtual-7/
END:VEVENT
BEGIN:VEVENT
DTSTART;TZID=America/New_York:20260511T140000
DTEND;TZID=America/New_York:20260511T150000
DTSTAMP:20260423T234031
CREATED:20260417T131540Z
LAST-MODIFIED:20260417T132324Z
UID:10993-1778508000-1778511600@stopoverdose.maryland.gov
SUMMARY:MORAC Citizen Advisory Workgroup (virtual)
DESCRIPTION:Direct input from community members who have been impacted by substance use and overdose is an essential component of Maryland’s overdose response strategy. To help facilitate public input\, Lt. Governor Aruna Miller is impaneling a Citizen Advisory Workgroup to provide recommendations to the Maryland Overdose Response Advisory Council (MORAC) from the perspective of individuals in Maryland who currently or have previously provided and/or utilized substance use disorder services in Maryland. \nLearn more at StopOverdose.maryland.gov/MORAC. \nVirtual: Monday\, May 11\, 2026 (2–3 pm)\nMeeting Link | Public Comment Submission Form
URL:https://stopoverdose.maryland.gov/calendar/morac-citizen-advisory-workgroup-virtual-4/
END:VEVENT
BEGIN:VEVENT
DTSTART;TZID=America/New_York:20260513T110000
DTEND;TZID=America/New_York:20260513T113000
DTSTAMP:20260423T234031
CREATED:20260422T171341Z
LAST-MODIFIED:20260422T171341Z
UID:11026-1778670000-1778671800@stopoverdose.maryland.gov
SUMMARY:Buprenorphine Access Workgroup Meeting (virtual)
DESCRIPTION:Buprenorphine Access Workgroup\nAs required by Maryland House Bill 1131 of 2025\, Maryland’s Office of Overdose Response is convening a workgroup to study access to buprenorphine in the state. The workgroup will examine a variety of topics related to the current status of buprenorphine services in Maryland\, including access to care\, regions with gaps in services\, funding\, innovative strategies to expand access\, and more. The workgroup shall submit its findings to the Governor and General Assembly by December 31st\, 2025. \nWednesday\, May 13\, 2026 (11–11:30 am)\nMeeting Link \nRecordings: All meetings of the Buprenorphine Access Workgroup are recorded for recordkeeping purposes. These recordings can be made available to the public upon request. If you would like to access recordings of previous meetings\, please email StopOverdose@maryland.gov. Your request should indicate the meeting dates for each recording you wish to access and whether video captions are required.
URL:https://stopoverdose.maryland.gov/calendar/buprenorphine-access-workgroup-meeting-virtual-8/
END:VEVENT
BEGIN:VEVENT
DTSTART;TZID=America/New_York:20260514T100000
DTEND;TZID=America/New_York:20260514T113000
DTSTAMP:20260423T234031
CREATED:20251206T020616Z
LAST-MODIFIED:20260127T165228Z
UID:9920-1778752800-1778758200@stopoverdose.maryland.gov
SUMMARY:MORAC Meeting
DESCRIPTION:Thursday\, May 14\, 2026\n 10:00 AM – 11:30 AM\n State House – Governor’s Reception Room\n Annapolis\, MD \nVimeo Link: https://vimeo.com/event/4006298 \nThe Maryland Overdose Response Advisory Council is chaired by Lt. Governor Aruna Miller and includes representatives from 18 state agencies working to reduce overdose morbidity and mortality in Maryland. The advisory council shares data related to the overdose crisis across agencies and provides strategic guidance for increasing access to substance use care and addressing disparities in overdose outcomes. \nWant to participate? Sign up for public comment at https://stopoverdose.maryland.gov/morac/
URL:https://stopoverdose.maryland.gov/calendar/morac-meeting-2/
END:VEVENT
BEGIN:VEVENT
DTSTART;TZID=America/New_York:20260528T150000
DTEND;TZID=America/New_York:20260528T160000
DTSTAMP:20260423T234031
CREATED:20260417T131625Z
LAST-MODIFIED:20260417T132333Z
UID:10995-1779980400-1779984000@stopoverdose.maryland.gov
SUMMARY:MORAC Citizen Advisory Workgroup (virtual)
DESCRIPTION:Direct input from community members who have been impacted by substance use and overdose is an essential component of Maryland’s overdose response strategy. To help facilitate public input\, Lt. Governor Aruna Miller is impaneling a Citizen Advisory Workgroup to provide recommendations to the Maryland Overdose Response Advisory Council (MORAC) from the perspective of individuals in Maryland who currently or have previously provided and/or utilized substance use disorder services in Maryland. \nLearn more at StopOverdose.maryland.gov/MORAC. \nVirtual: Thursday\, May 28\, 2026 (3–4 pm)\nMeeting Link | Public Comment Submission Form
URL:https://stopoverdose.maryland.gov/calendar/morac-citizen-advisory-workgroup-virtual-5/
END:VEVENT
BEGIN:VEVENT
DTSTART;TZID=America/New_York:20260605T090000
DTEND;TZID=America/New_York:20260605T100000
DTSTAMP:20260423T234031
CREATED:20260408T200705Z
LAST-MODIFIED:20260408T200808Z
UID:10783-1780650000-1780653600@stopoverdose.maryland.gov
SUMMARY:Opioid Restitution Fund Advisory Council (Mallinckrodt Committee Special Session)
DESCRIPTION:Maryland’s Opioid Restitution Fund (ORF) was created in 2019 to receive all funds awarded to the State of Maryland through legal settlements with prescription opioid manufacturers and distributors. In 2022\, Maryland established the ORF Advisory Council to provide recommendations regarding the use of those funds. For questions regarding the Advisory Council\, email StopOverdose@Maryland.gov. \nThis is a special session featuring a workgroup specifically focused on funds received from a settlement with Mallinckrodt. \nFriday\, June 5\, 2025 (virtual)\nTime: 9:00–10:00 a.m.\nMeeting Link \nMeeting Recordings: All meetings of the Opioid Restitution Fund Advisory Council are recorded for recordkeeping purposes. These recordings can be made available to the public upon request. If you would like to access recordings of previous meetings\, please email StopOverdose@maryland.gov. Your request should indicate the meeting dates for each recording you wish to access and whether video captions are required.
URL:https://stopoverdose.maryland.gov/calendar/opioid-restitution-fund-advisory-council-mallinckrodt-committee-special-session/
END:VEVENT
BEGIN:VEVENT
DTSTART;TZID=America/New_York:20260608T140000
DTEND;TZID=America/New_York:20260608T150000
DTSTAMP:20260423T234031
CREATED:20260417T131737Z
LAST-MODIFIED:20260417T132205Z
UID:10997-1780927200-1780930800@stopoverdose.maryland.gov
SUMMARY:MORAC Citizen Advisory Workgroup (virtual)
DESCRIPTION:Direct input from community members who have been impacted by substance use and overdose is an essential component of Maryland’s overdose response strategy. To help facilitate public input\, Lt. Governor Aruna Miller is impaneling a Citizen Advisory Workgroup to provide recommendations to the Maryland Overdose Response Advisory Council (MORAC) from the perspective of individuals in Maryland who currently or have previously provided and/or utilized substance use disorder services in Maryland. \nLearn more at StopOverdose.maryland.gov/MORAC. \nVirtual: Monday\, June 8\, 2026 (2–3 pm)\nMeeting Link | Public Comment Submission Form
URL:https://stopoverdose.maryland.gov/calendar/morac-citizen-advisory-workgroup-virtual-6/
END:VEVENT
BEGIN:VEVENT
DTSTART;TZID=America/New_York:20260625T150000
DTEND;TZID=America/New_York:20260625T160000
DTSTAMP:20260423T234031
CREATED:20260417T131810Z
LAST-MODIFIED:20260417T132216Z
UID:10999-1782399600-1782403200@stopoverdose.maryland.gov
SUMMARY:MORAC Citizen Advisory Workgroup (virtual)
DESCRIPTION:Direct input from community members who have been impacted by substance use and overdose is an essential component of Maryland’s overdose response strategy. To help facilitate public input\, Lt. Governor Aruna Miller is impaneling a Citizen Advisory Workgroup to provide recommendations to the Maryland Overdose Response Advisory Council (MORAC) from the perspective of individuals in Maryland who currently or have previously provided and/or utilized substance use disorder services in Maryland. \nLearn more at StopOverdose.maryland.gov/MORAC. \nVirtual: Thursday\, June 25\, 2026 (3–4 pm)\nMeeting Link | Public Comment Submission Form
URL:https://stopoverdose.maryland.gov/calendar/morac-citizen-advisory-workgroup-virtual-7/
END:VEVENT
BEGIN:VEVENT
DTSTART;TZID=America/New_York:20260709T100000
DTEND;TZID=America/New_York:20260709T113000
DTSTAMP:20260423T234031
CREATED:20251206T020822Z
LAST-MODIFIED:20260127T165350Z
UID:9925-1783591200-1783596600@stopoverdose.maryland.gov
SUMMARY:Virtual MORAC Meeting
DESCRIPTION:  \nThursday\, July 9\, 2026\n Virtual Meeting\n 10a-11:30a \nVimeo Link: https://vimeo.com/event/4006298 \nThe Maryland Overdose Response Advisory Council is chaired by Lt. Governor Aruna Miller and includes representatives from 18 state agencies working to reduce overdose morbidity and mortality in Maryland. The advisory council shares data related to the overdose crisis across agencies and provides strategic guidance for increasing access to substance use care and addressing disparities in overdose outcomes. \nWant to participate? Sign up for public comment at https://stopoverdose.mayland.gov/morac/
URL:https://stopoverdose.maryland.gov/calendar/virtual-morac-meeting/
END:VEVENT
BEGIN:VEVENT
DTSTART;TZID=America/New_York:20260910T100000
DTEND;TZID=America/New_York:20260910T113000
DTSTAMP:20260423T234031
CREATED:20251206T020932Z
LAST-MODIFIED:20260127T165406Z
UID:9927-1789034400-1789039800@stopoverdose.maryland.gov
SUMMARY:MORAC Meeting
DESCRIPTION:Thursday\, September 10\, 2026\n 10:00 AM – 11:30 AM\n State House – Governor’s Reception Room\n Annapolis\, MD\n Location subject to change (TBD) also Recovery Month Recognition \nVimeo Link: https://vimeo.com/event/4006298 \nThe Maryland Overdose Response Advisory Council is chaired by Lt. Governor Aruna Miller and includes representatives from 18 state agencies working to reduce overdose morbidity and mortality in Maryland. The advisory council shares data related to the overdose crisis across agencies and provides strategic guidance for increasing access to substance use care and addressing disparities in overdose outcomes. \nWant to participate? Sign up for public comment at https://stopoverdose.maryland.gov/morac/ \n 
URL:https://stopoverdose.maryland.gov/calendar/9927/
END:VEVENT
BEGIN:VEVENT
DTSTART;TZID=America/New_York:20261015T100000
DTEND;TZID=America/New_York:20261015T113000
DTSTAMP:20260423T234031
CREATED:20251206T021038Z
LAST-MODIFIED:20260127T165426Z
UID:9930-1792058400-1792063800@stopoverdose.maryland.gov
SUMMARY:MORAC Meeting
DESCRIPTION:Thursday\, October 15\, 2026\n 10:00 AM – 11:30 AM\n State House – Governor’s Reception Room\n Annapolis\, MD \nVimeo Link: https://vimeo.com/event/4006298 \nThe Maryland Overdose Response Advisory Council is chaired by Lt. Governor Aruna Miller and includes representatives from 18 state agencies working to reduce overdose morbidity and mortality in Maryland. The advisory council shares data related to the overdose crisis across agencies and provides strategic guidance for increasing access to substance use care and addressing disparities in overdose outcomes. \nWant to participate? Sign up for public comment at https://stopoverdose.maryland.gov/morac/
URL:https://stopoverdose.maryland.gov/calendar/morac-meeting-3/
END:VEVENT
END:VCALENDAR