BEGIN:VCALENDAR
VERSION:2.0
PRODID:-//OOCC - ECPv6.15.17.1//NONSGML v1.0//EN
CALSCALE:GREGORIAN
METHOD:PUBLISH
X-WR-CALNAME:OOCC
X-ORIGINAL-URL:https://stopoverdose.maryland.gov
X-WR-CALDESC:Events for OOCC
REFRESH-INTERVAL;VALUE=DURATION:PT1H
X-Robots-Tag:noindex
X-PUBLISHED-TTL:PT1H
BEGIN:VTIMEZONE
TZID:America/New_York
BEGIN:DAYLIGHT
TZOFFSETFROM:-0500
TZOFFSETTO:-0400
TZNAME:EDT
DTSTART:20240310T070000
END:DAYLIGHT
BEGIN:STANDARD
TZOFFSETFROM:-0400
TZOFFSETTO:-0500
TZNAME:EST
DTSTART:20241103T060000
END:STANDARD
BEGIN:DAYLIGHT
TZOFFSETFROM:-0500
TZOFFSETTO:-0400
TZNAME:EDT
DTSTART:20250309T070000
END:DAYLIGHT
BEGIN:STANDARD
TZOFFSETFROM:-0400
TZOFFSETTO:-0500
TZNAME:EST
DTSTART:20251102T060000
END:STANDARD
BEGIN:DAYLIGHT
TZOFFSETFROM:-0500
TZOFFSETTO:-0400
TZNAME:EDT
DTSTART:20260308T070000
END:DAYLIGHT
BEGIN:STANDARD
TZOFFSETFROM:-0400
TZOFFSETTO:-0500
TZNAME:EST
DTSTART:20261101T060000
END:STANDARD
END:VTIMEZONE
BEGIN:VEVENT
DTSTART;TZID=America/New_York:20250708T040000
DTEND;TZID=America/New_York:20250708T050000
DTSTAMP:20260422T193357
CREATED:20250617T225226Z
LAST-MODIFIED:20250617T225334Z
UID:8724-1751947200-1751950800@stopoverdose.maryland.gov
SUMMARY:MACS Maternal Health ECHO Session: Motivational Interviewing
DESCRIPTION:Join us every second Tuesday of the month from 8 to 9 a.m. for presentations and case-based discussions designed for providers in maternal health settings.
URL:https://stopoverdose.maryland.gov/calendar/macs-maternal-health-echo-session-motivational-interviewing/
LOCATION:Virtual
ORGANIZER;CN="Maryland Addiction Consultation Service (MACS)":MAILTO:crehfield@som.umaryland.edu
END:VEVENT
BEGIN:VEVENT
DTSTART;TZID=America/New_York:20250708T090000
DTEND;TZID=America/New_York:20250708T100000
DTSTAMP:20260422T193357
CREATED:20250703T002214Z
LAST-MODIFIED:20260223T180110Z
UID:8867-1751965200-1751968800@stopoverdose.maryland.gov
SUMMARY:Opioid Restitution Fund Advisory Council Regular Meeting (virtual)
DESCRIPTION:Maryland’s Opioid Restitution Fund (ORF) was created in 2019 to receive all funds awarded to the State of Maryland through legal settlements with prescription opioid manufacturers and distributors. In 2022\, Maryland established the ORF Advisory Council to provide recommendations regarding the use of those funds. For questions regarding the Advisory Council\, email StopOverdose@Maryland.gov. \nNext ORF Advisory Council Regular Meeting (virtual)\nTuesday\, July 8\, 2025 | 1–2 pm\nMeeting Link \nMeeting Recordings: All meetings of the Opioid Restitution Fund Advisory Council are recorded for recordkeeping purposes. These recordings can be made available to the public upon request. If you would like to access recordings of previous meetings\, please email StopOverdose@maryland.gov. Your request should indicate the meeting dates for each recording you wish to access and whether video captions are required.
URL:https://stopoverdose.maryland.gov/calendar/opioid-restitution-fund-advisory-council-regular-meeting-virtual/
END:VEVENT
BEGIN:VEVENT
DTSTART;TZID=America/New_York:20250708T120000
DTEND;TZID=America/New_York:20250708T130000
DTSTAMP:20260422T193357
CREATED:20250703T002113Z
LAST-MODIFIED:20260220T220625Z
UID:8865-1751976000-1751979600@stopoverdose.maryland.gov
SUMMARY:Buprenorphine Access Workgroup Meeting (virtual)
DESCRIPTION:As required by Maryland House Bill 1131 of 2025\, Maryland’s Office of Overdose Response is convening a workgroup to study access to buprenorphine in the state. The workgroup will examine a variety of topics related to the current status of buprenorphine services in Maryland\, including access to care\, regions with gaps in services\, funding\, innovative strategies to expand access\, and more. The workgroup shall submit its findings to the Governor and General Assembly by December 31st\, 2025. \nRecordings: All meetings of the Buprenorphine Access Workgroup are recorded for recordkeeping purposes. These recordings can be made available to the public upon request. If you would like to access recordings of previous meetings\, please email StopOverdose@maryland.gov. Your request should indicate the meeting dates for each recording you wish to access and whether video captions are required.
URL:https://stopoverdose.maryland.gov/calendar/buprenorphine-access-workgroup/
END:VEVENT
BEGIN:VEVENT
DTSTART;TZID=America/New_York:20250711T053000
DTEND;TZID=America/New_York:20250711T090000
DTSTAMP:20260422T193357
CREATED:20250612T003202Z
LAST-MODIFIED:20250612T003202Z
UID:8663-1752211800-1752224400@stopoverdose.maryland.gov
SUMMARY:MOED’s 2025 Peer Recovery Specialist Graduation
DESCRIPTION:MOED is holding a graduation for the Recovery Coach participants that have also completed their 500 worksite hours and have applied for the full Peer Recovery Specialist Certification. The event will be held on Friday\, July 11th from 9:30 am – 1:00 pm  at Eastside Career Center\, 3001 E Madison St. \nWhat: MOED’s 2025 Peer Recovery Specialist Graduation \nWhen: July 11th\, 2025 from 9:30 am-1:00 pm \nWhere: Eastside Career Center\, 3001 E Madison St. Baltimore\, MD
URL:https://stopoverdose.maryland.gov/calendar/moeds-2025-peer-recovery-specialist-graduation/
LOCATION:Eastside Career Center\, Baltimore MD
ORGANIZER;CN="Mayor's Office of Employment Development":MAILTO:jessica.cardott@baltimorecity.gov
END:VEVENT
BEGIN:VEVENT
DTSTART;TZID=America/New_York:20250716T083000
DTEND;TZID=America/New_York:20250716T093000
DTSTAMP:20260422T193357
CREATED:20250617T225422Z
LAST-MODIFIED:20250617T225507Z
UID:8730-1752654600-1752658200@stopoverdose.maryland.gov
SUMMARY:MACS SUD ECHO Session: Addressing Tobacco Use in the Context of Other Substance Use Disorders
DESCRIPTION:Join our learning community for presentations and case-based discussions centered on best practices in SUD.
URL:https://stopoverdose.maryland.gov/calendar/macs-sud-echo-session-addressing-tobacco-use-in-the-context-of-other-substance-use-disorders/
LOCATION:Virtual
ORGANIZER;CN="Maryland Addiction Consultation Service (MACS)":MAILTO:crehfield@som.umaryland.edu
END:VEVENT
BEGIN:VEVENT
DTSTART;TZID=America/New_York:20250724T080000
DTEND;TZID=America/New_York:20250724T130000
DTSTAMP:20260422T193357
CREATED:20250607T014741Z
LAST-MODIFIED:20250607T014741Z
UID:8607-1753344000-1753362000@stopoverdose.maryland.gov
SUMMARY:FREE Food Distributions
DESCRIPTION:We offer a range of community support services tailored to meet the unique needs of each locality. From educational programs to resource distribution\, F.A.C.E. Organization is dedicated to improving the quality of life for individuals and families in our communities.
URL:https://stopoverdose.maryland.gov/calendar/free-food-distributions/
LOCATION:1510 W. Mosher Street Baltimore\, MD 21217
ORGANIZER;CN="F.A.C.E. (Freedom Advocates Celebrating Ex-Offenders)":MAILTO:info@facebaltimore.org
END:VEVENT
BEGIN:VEVENT
DTSTART;TZID=America/New_York:20250724T120000
DTEND;TZID=America/New_York:20250724T130000
DTSTAMP:20260422T193357
CREATED:20250717T205724Z
LAST-MODIFIED:20260220T220631Z
UID:8992-1753358400-1753362000@stopoverdose.maryland.gov
SUMMARY:Buprenorphine Access Workgroup Meeting (virtual)
DESCRIPTION:Buprenorphine Access Workgroup\n\n\n\nAs required by Maryland House Bill 1131 of 2025\, Maryland’s Office of Overdose Response is convening a workgroup to study access to buprenorphine in the state. The workgroup will examine a variety of topics related to the current status of buprenorphine services in Maryland\, including access to care\, regions with gaps in services\, funding\, innovative strategies to expand access\, and more. The workgroup shall submit its findings to the Governor and General Assembly by December 31st\, 2025. \n\n\n\n\n\n\nRecordings: All meetings of the Buprenorphine Access Workgroup are recorded for recordkeeping purposes. These recordings can be made available to the public upon request. If you would like to access recordings of previous meetings\, please email StopOverdose@maryland.gov. Your request should indicate the meeting dates for each recording you wish to access and whether video captions are required.
URL:https://stopoverdose.maryland.gov/calendar/buprenorphine-access-workgroup-meeting/
END:VEVENT
BEGIN:VEVENT
DTSTART;TZID=America/New_York:20250726T060000
DTEND;TZID=America/New_York:20250726T090000
DTSTAMP:20260422T193357
CREATED:20250612T001641Z
LAST-MODIFIED:20250612T001641Z
UID:8653-1753509600-1753520400@stopoverdose.maryland.gov
SUMMARY:Rescheduled District 27A Community Day
DESCRIPTION:We are reaching out to invite you to participate in our rescheduled District 27A Community Day\, Saturday\, July 26\, 2025\, from 10:00 a.m. to 1:00 p.m. \nIn light of the ongoing uncertainty within the federal government\, this year’s Community Day will place a special emphasis on community care and celebration\, with a spotlight on supporting our District 27A scholars. To further uplift our youth\, we’re excited to incorporate a back-to-school element into the event. We encourage you to prepare your materials with this theme in mind\, as we work together to support students and families facing various transitions. \nUpdated Event Details:\nDate: Saturday\, July 26\, 2025\nTime: 10:00 a.m. – 1:00 p.m.\nLocation: Accokeek East Community Park\n3606 Accokeek Rd\, Waldorf\, MD 20601
URL:https://stopoverdose.maryland.gov/calendar/rescheduled-district-27a-community-day/
LOCATION:Accokeek East Community Park\, Waldorf MD
ORGANIZER;CN="Delegate Kevin Harris":MAILTO:Kevin.Harris@house.state.md.us
END:VEVENT
BEGIN:VEVENT
DTSTART;VALUE=DATE:20250807
DTEND;VALUE=DATE:20250809
DTSTAMP:20260422T193357
CREATED:20250731T221659Z
LAST-MODIFIED:20250731T221659Z
UID:9036-1754596800-1754683199@stopoverdose.maryland.gov
SUMMARY:Jersey Mike's Slice Out Substance Use Fundraiser - Washington Goes Purple
DESCRIPTION:On Friday\, August 8th\, join us for a special Jersey Mike’s fundraiser benefiting Washington Goes Purple! 🙌\nWhen you grab a delicious sandwich\, a 20% of the proceeds will help raise awareness and support\nHere’s how you can help:\n👉 Dine in\, take out\, or order online from your local Jersey Mike’s 👉 Mention Washington Goes Purple at checkout to contribute to the cause!\n📅 Date: Friday\, August 8th\n📍 Location: Participating Jersey Mike’s locations\n18015 Garland Groh Blvd\, Hagerstown\n1370 Dual Highway\, Hagerstown
URL:https://stopoverdose.maryland.gov/calendar/jersey-mikes-slice-out-substance-use-fundraiser-washington-goes-purple/
LOCATION:Jersey Mikes\, Hagerstown MD
ORGANIZER;CN="Washington Goes Purple":MAILTO:washingtongoespurple@gmail.com
END:VEVENT
BEGIN:VEVENT
DTSTART;TZID=America/New_York:20250808T070000
DTEND;TZID=America/New_York:20250808T100000
DTSTAMP:20260422T193357
CREATED:20250612T014711Z
LAST-MODIFIED:20250612T015003Z
UID:8673-1754636400-1754647200@stopoverdose.maryland.gov
SUMMARY:OCA Reentry Resource Day
DESCRIPTION:Reentry resources to reduce recidivism in the atmosphere or support and fun: housing\, employment\, recovery\, expungement\, partner and participant door prize\, games\, food\, etc.
URL:https://stopoverdose.maryland.gov/calendar/oca-reentry-resource-day/
LOCATION:119-121 East Antietam Street\, Hagerstown MD
ORGANIZER;CN="Office of Consumer Advocates (OCA)":MAILTO:mpaul@ocamd.org
END:VEVENT
BEGIN:VEVENT
DTSTART;TZID=America/New_York:20250809T060000
DTEND;TZID=America/New_York:20250809T080000
DTSTAMP:20260422T193357
CREATED:20250805T190127Z
LAST-MODIFIED:20250805T190127Z
UID:9182-1754719200-1754726400@stopoverdose.maryland.gov
SUMMARY:Back To School Event hosted by American Diversity Group
DESCRIPTION:Back To School Event \nAmerican Diversity Group \nLocation 12210 Plum Orchard Drive Suite 214 Silver Spring MD 20910\n \nDistribution of Backpacks\nEducation resources on Opioid and Drug Overdose\nSpecialists at Site like Pain Management\, Ortho\, Ob Gyn.\nPeds. School Sports Physical\nGroceries Distribution
URL:https://stopoverdose.maryland.gov/calendar/back-to-school-event-hosted-by-american-diversity-group/
LOCATION:12210 Plum Orchard Drive Suite 214 Silver Spring MD 20910
END:VEVENT
BEGIN:VEVENT
DTSTART;TZID=America/New_York:20250809T080000
DTEND;TZID=America/New_York:20250809T120000
DTSTAMP:20260422T193357
CREATED:20250521T203453Z
LAST-MODIFIED:20250521T203600Z
UID:8557-1754726400-1754740800@stopoverdose.maryland.gov
SUMMARY:Hilda’s Foundation Speaker Jam
DESCRIPTION:Hilda’s Foundation will be hosting their 2nd Annual Speaker Jam on Saturday\, August 9th at Westminster City Park .
URL:https://stopoverdose.maryland.gov/calendar/hildas-foundation-speaker-jam-2/
END:VEVENT
BEGIN:VEVENT
DTSTART;VALUE=DATE:20250810
DTEND;VALUE=DATE:20250812
DTSTAMP:20260422T193357
CREATED:20250617T230207Z
LAST-MODIFIED:20250617T230452Z
UID:8739-1754856000-1754942399@stopoverdose.maryland.gov
SUMMARY:2025 Drug Awareness Camp - Free
DESCRIPTION:Open to incoming 5th & 6th graders | August 11th-15th 8a-4p \nTo Register Contact Cpl. Brookman at P91631@aacounty.org \n \n 
URL:https://stopoverdose.maryland.gov/calendar/2025-drug-awareness-camp-free/
LOCATION:Elks Camp Barrett\, 1001 Chesterield Road\, Annapolis
END:VEVENT
BEGIN:VEVENT
DTSTART;TZID=America/New_York:20250816T120000
DTEND;TZID=America/New_York:20250816T150000
DTSTAMP:20260422T193357
CREATED:20250731T222012Z
LAST-MODIFIED:20250731T222040Z
UID:9039-1755345600-1755356400@stopoverdose.maryland.gov
SUMMARY:Family Fun Day
DESCRIPTION:Get ready for a day of bonding\, making memories and enjoying a wide range of fun-filled activities. \n  \n \n 
URL:https://stopoverdose.maryland.gov/calendar/family-fun-day/
LOCATION:123 Coursevall Drive Centreville\, MD
END:VEVENT
BEGIN:VEVENT
DTSTART;TZID=America/New_York:20250820T090000
DTEND;TZID=America/New_York:20250820T110000
DTSTAMP:20260422T193357
CREATED:20250805T190330Z
LAST-MODIFIED:20250805T190400Z
UID:9186-1755680400-1755687600@stopoverdose.maryland.gov
SUMMARY:Stigma: In Our Work\, In Our Lives (Opioid-Focus)
DESCRIPTION:Free Online Webinar; “This 2 hour interactive webinar is designed to reduce stigmatizing behaviors\, attitudes and practices within the mental health and addiction recovery communities with a focus on opioid use disorders (OUD) and medication for OUD treatment (MOUD). Participants will examine the impact of substance use-related stigma on the behavioral health system and its stakeholders and develop strategies and action steps to remediate it both personally and within their organizations. \nThis event is an opioid-focused version of the flagship workshop that grew out of the foundational meetings of the Anti-Stigma Project\, specifically designed to replicate the knowledge and insights gained through that process.” \nhttps://www.onourownmd.org/s/campaign/701PK00000Wwls9YAB/stigma-in-our-work-in-our-lives-opioidfocus \nHosted by: On Our Own of Maryland\, Inc.
URL:https://stopoverdose.maryland.gov/calendar/stigma-in-our-work-in-our-lives-opioid-focus/
LOCATION:Virtual
END:VEVENT
BEGIN:VEVENT
DTSTART;TZID=America/New_York:20250821T090000
DTEND;TZID=America/New_York:20250821T110000
DTSTAMP:20260422T193357
CREATED:20250819T222509Z
LAST-MODIFIED:20250819T222509Z
UID:9251-1755766800-1755774000@stopoverdose.maryland.gov
SUMMARY:Honoring Lives Lost\, Supporting Recovery\, Raising Awareness
DESCRIPTION:
URL:https://stopoverdose.maryland.gov/calendar/honoring-lives-lost-supporting-recovery-raising-awareness/
LOCATION:Veterans Park\, Smithsburg\, MD\, United States
END:VEVENT
BEGIN:VEVENT
DTSTART;TZID=America/New_York:20250822T130000
DTEND;TZID=America/New_York:20250822T170000
DTSTAMP:20260422T193357
CREATED:20250731T222140Z
LAST-MODIFIED:20250731T222140Z
UID:9046-1755867600-1755882000@stopoverdose.maryland.gov
SUMMARY:WGP Night @ Meritus Park
DESCRIPTION:Stop by our table before or during the Flying Boxcars game on August 22nd to learn what we are doing within the community during Recovery Month!\nMake sure to wear your purple gear!\nThis night is also: Grateful Dead Night\nArthur Rhodes Bobblehead Presented by Visit Hagerstown\nFireworks Show Presented by Visit Hagerstown\nYou must purchase your own tickets online or head to the box office the evening of the game! \n 
URL:https://stopoverdose.maryland.gov/calendar/wgp-night-meritus-park/
LOCATION:Meritus Park\, Hagerstown MD
ORGANIZER;CN="Washington Goes Purple":MAILTO:washingtongoespurple@gmail.com
END:VEVENT
BEGIN:VEVENT
DTSTART;TZID=America/New_York:20250823T150000
DTEND;TZID=America/New_York:20250823T170000
DTSTAMP:20260422T193357
CREATED:20250630T200010Z
LAST-MODIFIED:20250630T200309Z
UID:8791-1755961200-1755968400@stopoverdose.maryland.gov
SUMMARY:International Overdose/Fentanyl Awareness Candlelight Vigil
DESCRIPTION:Order Signs Here: https://store.beachleymedical.com/cgi-bin/XebraWeb.exe?WebStoreHome&referrer=https://store.beachleymedical.com/debelius/
URL:https://stopoverdose.maryland.gov/calendar/international-overdose-fentanyl-awareness-candlelight-vigil/
LOCATION:Angel Park\, Perry Hall\, MD
ORGANIZER;CN="Adam's Light":MAILTO:adamslight4ever39@gmail.com
END:VEVENT
BEGIN:VEVENT
DTSTART;TZID=America/New_York:20250825T090000
DTEND;TZID=America/New_York:20250825T100000
DTSTAMP:20260422T193357
CREATED:20250815T214333Z
LAST-MODIFIED:20250815T214439Z
UID:9242-1756112400-1756116000@stopoverdose.maryland.gov
SUMMARY:MOOR Quarterly Grantee Roundtable (Penn North)
DESCRIPTION:Join us for a presentation from Penn North\, which will cover the services they provide\, including wraparound care for clients. It will also address the recent mass overdose incident in Baltimore City. \nMeeting Link: \nhttps://meet.google.com/oir-ffdc-qgd \n 
URL:https://stopoverdose.maryland.gov/calendar/moor-quarterly-grantee-roundtable-penn-north/
END:VEVENT
BEGIN:VEVENT
DTSTART;TZID=America/New_York:20250827T150000
DTEND;TZID=America/New_York:20250827T163000
DTSTAMP:20260422T193357
CREATED:20250805T190645Z
LAST-MODIFIED:20250805T190848Z
UID:9191-1756306800-1756312200@stopoverdose.maryland.gov
SUMMARY:Sheila Vakharia presents "The Harm Reduction Gap" w/ the Maryland Alliance for Sensible Drug Policy
DESCRIPTION:Dr. Sheila Vakharia discusses the shortcomings of the dominant “Just Say No” drug prevention messages and abstinence-only treatment approaches\, introduces harm reduction strategies and technologies borne from people who use drugs themselves\, and suggests various policy options available as alternatives to the current policies that criminalize drugs\, drug-using equipment\, and the settings in which people use drugs. She concludes with a call to destigmatize drug use and support efforts to reform our drug policies. \nBy highlighting the large gap in our current approach to substance use – the harm reduction gap – this book is the first step for those interested in learning more about the limitations of our current approach to drug use and how to support local efforts to ensure people who use drugs and their communities can stay safe. \nSheila Vakharia PhD MSW is an author\, a speaker\, and a national expert on harm reduction and drug policy. She is currently the Deputy Director of the Department of Research and Academic Engagement at the Drug Policy Alliance\, the nation’s leading advocacy organization fighting to end the war on drugs. Dr. Vakharia brings over 15 years of combined experience in clinical social work in both treatment and harm reduction settings\, research\, teaching\, and policy advocacy to her work. \nThis book talk is hosted by the Maryland Alliance for Sensible Drug Policy\, a statewide advocacy group whose mission is to empower and mobilize people who use or have used drugs to fight for policies that protect their health\, wellness\, and autonomy. Founded in 2024\, the Alliance is led by people who use or have used drugs\, their loved ones\, and allies. Through research\, organizing\, education\, and grassroots lobbying\, the Alliance works to dismantle punitive drug policies and increase access to harm reduction programs\, evidence-based treatment\, and recovery support services.
URL:https://stopoverdose.maryland.gov/calendar/sheila-vakharia-presents-the-harm-reduction-gap-w-the-maryland-alliance-for-sensible-drug-policy/
LOCATION:Red Emma’s 3128 Greenmount AvenueBaltimore\, MD
END:VEVENT
BEGIN:VEVENT
DTSTART;TZID=America/New_York:20250827T150000
DTEND;TZID=America/New_York:20250827T170000
DTSTAMP:20260422T193357
CREATED:20250731T222322Z
LAST-MODIFIED:20250731T222626Z
UID:9048-1756306800-1756314000@stopoverdose.maryland.gov
SUMMARY:Remembering Love and Restoring Hope
DESCRIPTION:An event to honor the lives lost to overdose and provide support to family and friends left behind.
URL:https://stopoverdose.maryland.gov/calendar/remembering-love-restoring-hope/
LOCATION:Frederick County Community College\, 7932 Opossumtown Pike\, Frederick\, MD\, 21702\, United States
END:VEVENT
BEGIN:VEVENT
DTSTART;TZID=America/New_York:20250828T040000
DTEND;TZID=America/New_York:20250828T130000
DTSTAMP:20260422T193357
CREATED:20250808T201716Z
LAST-MODIFIED:20250808T201716Z
UID:9225-1756353600-1756386000@stopoverdose.maryland.gov
SUMMARY:Implementing the Revised 42 CFR Part 8 Regulations in Opioid Treatment Programs (OTPs) Workshop provided by SAMHSA.
DESCRIPTION:Mark Your Calendars! \nWe are excited to announce the upcoming Implementing the Revised 42 CFR Part 8 Regulations in Opioid Treatment Programs (OTPs) Workshop provided by SAMHSA. \nThis in-person\, one-day workshop is scheduled for August 28 in Maryland. \nDesigned for OTP clinical\, counseling\, and administrative staff\, this workshop aims to educate participants about the revised Federal OTP regulations and provide strategies for implementation. \nUpon successful completion of the workshop\, participants are eligible to receive a certificate of 8 CME/CEU credits for practitioners\, nurses\, social workers\, and other health care professionals. \nStay tuned for registration details in the coming weeks from the \nOTPTA-Events@manhattanstrategy.com. \n We look forward to your participation!
URL:https://stopoverdose.maryland.gov/calendar/implementing-the-revised-42-cfr-part-8-regulations-in-opioid-treatment-programs-otps-workshop-provided-by-samhsa/
END:VEVENT
BEGIN:VEVENT
DTSTART;TZID=America/New_York:20250828T100000
DTEND;TZID=America/New_York:20250828T140000
DTSTAMP:20260422T193357
CREATED:20250731T222746Z
LAST-MODIFIED:20250821T220526Z
UID:9054-1756375200-1756389600@stopoverdose.maryland.gov
SUMMARY:Overdose Awareness Day
DESCRIPTION:Join the Baltimore City Health Department for a community resource fair to commemorate International Overdose Awareness Day. Come to receive\, discuss\, and enjoy:\naccess to vital information & support services effective harm reduction strategies and live entertainment for children and adults \n  \n \n 
URL:https://stopoverdose.maryland.gov/calendar/overdose-awareness-day/
LOCATION:501 Catherine Street\, Baltimore
END:VEVENT
BEGIN:VEVENT
DTSTART;TZID=America/New_York:20250828T130000
DTEND;TZID=America/New_York:20250828T153000
DTSTAMP:20260422T193357
CREATED:20250731T223723Z
LAST-MODIFIED:20250731T223850Z
UID:9061-1756386000-1756395000@stopoverdose.maryland.gov
SUMMARY:2025 - IOAD International Overdose Awareness Day
DESCRIPTION:Resource Fair\, Montgomery Goes Purple Recovery Month Event\, IOAD Candlelight Vigil \n \n 
URL:https://stopoverdose.maryland.gov/calendar/2025-ioad-international-overdose-awareness-day/
LOCATION:Memorial Plaza 101 Monro Street\, Rockville\, MD (between the Montgomery County Executive Office Building and the Circuit Court
ORGANIZER;CN="Montgomery Goes Purple":MAILTO:info@montgomerygoespurple.org
END:VEVENT
BEGIN:VEVENT
DTSTART;TZID=America/New_York:20250828T133000
DTEND;TZID=America/New_York:20250828T153000
DTSTAMP:20260422T193357
CREATED:20250731T224158Z
LAST-MODIFIED:20250731T224508Z
UID:9072-1756387800-1756395000@stopoverdose.maryland.gov
SUMMARY:Overdose Awareness Event
DESCRIPTION:
URL:https://stopoverdose.maryland.gov/calendar/overdose-awareness-event/
LOCATION:Winterplace Park in Salisbury
ORGANIZER;CN="Wicomico County Health Department":MAILTO:jessica.taylor@maryland.gov
END:VEVENT
BEGIN:VEVENT
DTSTART;TZID=America/New_York:20250828T133000
DTEND;TZID=America/New_York:20250828T160000
DTSTAMP:20260422T193357
CREATED:20250731T224009Z
LAST-MODIFIED:20250731T224041Z
UID:9067-1756387800-1756396800@stopoverdose.maryland.gov
SUMMARY:International Overdose Awareness Vigil
DESCRIPTION:Recovery Anne Arundel invites you to join us at this annual vigil to celebrate and remember all of those we have lost to the disease of addiction
URL:https://stopoverdose.maryland.gov/calendar/international-overdose-awareness-vigil/
LOCATION:Unitarian Universalist Church of Annapolis 333 Dubois Road\, Annapolis
END:VEVENT
BEGIN:VEVENT
DTSTART;TZID=America/New_York:20250830T080000
DTEND;TZID=America/New_York:20250830T130000
DTSTAMP:20260422T193357
CREATED:20250731T224555Z
LAST-MODIFIED:20250731T224725Z
UID:9078-1756540800-1756558800@stopoverdose.maryland.gov
SUMMARY:Recovery Is Self Discovery
DESCRIPTION:𝗥𝗲𝗰𝗼𝘃𝗲𝗿𝘆 𝗜𝘀 𝗦𝗲𝗹𝗳-𝗗𝗶𝘀𝗰𝗼𝘃𝗲𝗿𝘆 Event\nSaturday\, August 30 | 12–5 𝘗𝘔\n13 Canal Street\, Cumberland\, MD\nJoin us as we kick off 𝗡𝗮𝘁𝗶𝗼𝗻𝗮𝗹 𝗥𝗲𝗰𝗼𝘃𝗲𝗿𝘆 𝗠𝗼𝗻𝘁𝗵 with a day of empowerment\, connection\, and celebration in the heart of Cumberland.\nWhat to expect:\nLive DJ set from Gypsy Mafia Music Group\nReal stories from recovery speakers—sharing journeys of resilience\, healing\, and hope\nObstacle course bounce house for the kids\nFree community luncheon for all\nWhether you’re walking your own recovery path or showing up in support of someone else—this space is for you. Come as you are. Leave inspired.\n𝗕𝗲𝗰𝗮𝘂𝘀𝗲 𝗿𝗲𝗰𝗼𝘃𝗲𝗿𝘆 𝗶𝘀 𝗽𝗼𝘀𝘀𝗶𝗯𝗹𝗲. 𝗔𝗻𝗱 𝘆𝗼𝘂 𝗺𝗮𝘁𝘁𝗲𝗿 𝘁𝗼 𝘂𝘀.
URL:https://stopoverdose.maryland.gov/calendar/recovery-is-self-discovery/
LOCATION:13 Canal Street\, Cumberland MD
END:VEVENT
BEGIN:VEVENT
DTSTART;TZID=America/New_York:20250830T150000
DTEND;TZID=America/New_York:20250830T163000
DTSTAMP:20260422T193357
CREATED:20250902T201500Z
LAST-MODIFIED:20250902T201508Z
UID:9486-1756566000-1756571400@stopoverdose.maryland.gov
SUMMARY:Overdose Awareness Vigil
DESCRIPTION:A community event to educate the public on overdose prevention\, overdose help\, and recovery resources to bring hope and healing.
URL:https://stopoverdose.maryland.gov/calendar/overdose-awareness-vigil/
LOCATION:Riverwalk Amp\, downtown Salisbury\, MD
ORGANIZER;CN="Recovery Resource Center":MAILTO:lisa@rrcsby.org
END:VEVENT
BEGIN:VEVENT
DTSTART;TZID=America/New_York:20250831T140000
DTEND;TZID=America/New_York:20250831T160000
DTSTAMP:20260422T193357
CREATED:20250819T223008Z
LAST-MODIFIED:20250819T223055Z
UID:9267-1756648800-1756656000@stopoverdose.maryland.gov
SUMMARY:Unity in the Community Candlelight Vigil & Remembrance - IOAD 2025
DESCRIPTION:Join us as we come together to commemorate the lives of loved ones lost to overdose. This event will offer local resources and support\, followed by speaker jam\, candlelight vigil to share the message of remembrance\, healing and hope.
URL:https://stopoverdose.maryland.gov/calendar/unity-in-the-community-candlelight-vigil-remembrance-ioad-2025/
LOCATION:Fountain Park / Chestertown/Kent County
END:VEVENT
BEGIN:VEVENT
DTSTART;TZID=America/New_York:20250831T140000
DTEND;TZID=America/New_York:20250831T160000
DTSTAMP:20260422T193357
CREATED:20250828T214628Z
LAST-MODIFIED:20250828T214628Z
UID:9407-1756648800-1756656000@stopoverdose.maryland.gov
SUMMARY:Candlelight Ceremony for Overdose Awareness
DESCRIPTION:Join us for an evening of remembrance for those whose lives have been impacted by overdose.
URL:https://stopoverdose.maryland.gov/calendar/candlelight-ceremony-for-overdose-awareness/
LOCATION:Cumberland Downtown Mall
END:VEVENT
END:VCALENDAR