BEGIN:VCALENDAR
VERSION:2.0
PRODID:-//OOCC - ECPv6.15.17.1//NONSGML v1.0//EN
CALSCALE:GREGORIAN
METHOD:PUBLISH
X-ORIGINAL-URL:https://stopoverdose.maryland.gov
X-WR-CALDESC:Events for OOCC
REFRESH-INTERVAL;VALUE=DURATION:PT1H
X-Robots-Tag:noindex
X-PUBLISHED-TTL:PT1H
BEGIN:VTIMEZONE
TZID:America/New_York
BEGIN:DAYLIGHT
TZOFFSETFROM:-0500
TZOFFSETTO:-0400
TZNAME:EDT
DTSTART:20240310T070000
END:DAYLIGHT
BEGIN:STANDARD
TZOFFSETFROM:-0400
TZOFFSETTO:-0500
TZNAME:EST
DTSTART:20241103T060000
END:STANDARD
BEGIN:DAYLIGHT
TZOFFSETFROM:-0500
TZOFFSETTO:-0400
TZNAME:EDT
DTSTART:20250309T070000
END:DAYLIGHT
BEGIN:STANDARD
TZOFFSETFROM:-0400
TZOFFSETTO:-0500
TZNAME:EST
DTSTART:20251102T060000
END:STANDARD
BEGIN:DAYLIGHT
TZOFFSETFROM:-0500
TZOFFSETTO:-0400
TZNAME:EDT
DTSTART:20260308T070000
END:DAYLIGHT
BEGIN:STANDARD
TZOFFSETFROM:-0400
TZOFFSETTO:-0500
TZNAME:EST
DTSTART:20261101T060000
END:STANDARD
END:VTIMEZONE
BEGIN:VEVENT
DTSTART;TZID=America/New_York:20251017T070000
DTEND;TZID=America/New_York:20251017T100000
DTSTAMP:20260421T123336
CREATED:20250630T185112Z
LAST-MODIFIED:20250630T190350Z
UID:8764-1760684400-1760695200@stopoverdose.maryland.gov
SUMMARY:Howard Community College Public Safety Day 2025
DESCRIPTION:The 7th Howard Community College Public Safety Day 2025 on Friday\, October 17th from 11:00 am –2:00 pm in the quad and HVPA Lobby. By participating you will have the opportunity to talk with HCC students\, alumni\, and members of the community about safety. \nThis year we will be teaming up with our third annual Fall for All! This free\, family-friendly event falls on a day when HCPSS schools are closed for students\, making it the perfect opportunity to visit campus and enjoy a day of fall fun and festivities. We’ll have pumpkin-themed activities and a pumpkin patch\, face painting\, moon bounces\, candy\, an inflatable corn maze\, and more! \nThis is a free\, fun\, interactive\, family-friendly event that allows children and adults to see\, touch\, and safely explore their favorite trucks\, motorcycles\, helicopters\, and safety equipment as well as meet the personnel who protect\, serve\, and build the community.
URL:https://stopoverdose.maryland.gov/calendar/howard-community-college-public-safety-day-2025/
LOCATION:Howard Community College Quad & HVPA Lobby
ORGANIZER;CN="Howard Community College Dept of Public Safety":MAILTO:kjewer@howardcc.edu
END:VEVENT
END:VCALENDAR