BEGIN:VCALENDAR
VERSION:2.0
PRODID:-//OOCC - ECPv6.15.17.1//NONSGML v1.0//EN
CALSCALE:GREGORIAN
METHOD:PUBLISH
X-ORIGINAL-URL:https://stopoverdose.maryland.gov
X-WR-CALDESC:Events for OOCC
REFRESH-INTERVAL;VALUE=DURATION:PT1H
X-Robots-Tag:noindex
X-PUBLISHED-TTL:PT1H
BEGIN:VTIMEZONE
TZID:America/New_York
BEGIN:DAYLIGHT
TZOFFSETFROM:-0500
TZOFFSETTO:-0400
TZNAME:EDT
DTSTART:20240310T070000
END:DAYLIGHT
BEGIN:STANDARD
TZOFFSETFROM:-0400
TZOFFSETTO:-0500
TZNAME:EST
DTSTART:20241103T060000
END:STANDARD
BEGIN:DAYLIGHT
TZOFFSETFROM:-0500
TZOFFSETTO:-0400
TZNAME:EDT
DTSTART:20250309T070000
END:DAYLIGHT
BEGIN:STANDARD
TZOFFSETFROM:-0400
TZOFFSETTO:-0500
TZNAME:EST
DTSTART:20251102T060000
END:STANDARD
BEGIN:DAYLIGHT
TZOFFSETFROM:-0500
TZOFFSETTO:-0400
TZNAME:EDT
DTSTART:20260308T070000
END:DAYLIGHT
BEGIN:STANDARD
TZOFFSETFROM:-0400
TZOFFSETTO:-0500
TZNAME:EST
DTSTART:20261101T060000
END:STANDARD
END:VTIMEZONE
BEGIN:VEVENT
DTSTART;TZID=America/New_York:20251004T060000
DTEND;TZID=America/New_York:20251004T113000
DTSTAMP:20260421T123336
CREATED:20250821T215110Z
LAST-MODIFIED:20250821T215132Z
UID:9309-1759557600-1759577400@stopoverdose.maryland.gov
SUMMARY:Health and Wellness Expo
DESCRIPTION:FREE\, Healthy Food Distribution\, Health Screenings\, Voter Registration. 
URL:https://stopoverdose.maryland.gov/calendar/health-and-wellness-expo/
LOCATION:Prince George’s Sports & Learning Complex 8001 Sheriff Road\, Landover\, MD 20785
END:VEVENT
BEGIN:VEVENT
DTSTART;TZID=America/New_York:20251004T100000
DTEND;TZID=America/New_York:20251004T140000
DTSTAMP:20260421T123336
CREATED:20250909T190829Z
LAST-MODIFIED:20250909T190829Z
UID:9533-1759572000-1759586400@stopoverdose.maryland.gov
SUMMARY:OkSOBERfest
DESCRIPTION:Open to the community\, OkSOBERfest provides the fun of an Octoberfest fall festival without the focus on beer. The young and young-at-heart can enjoy a variety of activities\, from our featured Inflatable Races to a balloon drop\, and old school cake walk\, pumpkins\, crafts\, food\, and live music.
URL:https://stopoverdose.maryland.gov/calendar/oksoberfest/
LOCATION:Westminster/Carroll/658 Lucabaugh Mill Road\, Westminster
ORGANIZER;CN="Westminster Rescue Mission":MAILTO:tstmichel@WestminsterRescueMission.org
END:VEVENT
END:VCALENDAR