BEGIN:VCALENDAR
VERSION:2.0
PRODID:-//OOCC - ECPv6.15.17.1//NONSGML v1.0//EN
CALSCALE:GREGORIAN
METHOD:PUBLISH
X-ORIGINAL-URL:https://stopoverdose.maryland.gov
X-WR-CALDESC:Events for OOCC
REFRESH-INTERVAL;VALUE=DURATION:PT1H
X-Robots-Tag:noindex
X-PUBLISHED-TTL:PT1H
BEGIN:VTIMEZONE
TZID:America/New_York
BEGIN:DAYLIGHT
TZOFFSETFROM:-0500
TZOFFSETTO:-0400
TZNAME:EDT
DTSTART:20240310T070000
END:DAYLIGHT
BEGIN:STANDARD
TZOFFSETFROM:-0400
TZOFFSETTO:-0500
TZNAME:EST
DTSTART:20241103T060000
END:STANDARD
BEGIN:DAYLIGHT
TZOFFSETFROM:-0500
TZOFFSETTO:-0400
TZNAME:EDT
DTSTART:20250309T070000
END:DAYLIGHT
BEGIN:STANDARD
TZOFFSETFROM:-0400
TZOFFSETTO:-0500
TZNAME:EST
DTSTART:20251102T060000
END:STANDARD
BEGIN:DAYLIGHT
TZOFFSETFROM:-0500
TZOFFSETTO:-0400
TZNAME:EDT
DTSTART:20260308T070000
END:DAYLIGHT
BEGIN:STANDARD
TZOFFSETFROM:-0400
TZOFFSETTO:-0500
TZNAME:EST
DTSTART:20261101T060000
END:STANDARD
END:VTIMEZONE
BEGIN:VEVENT
DTSTART;VALUE=DATE:20250831
DTEND;VALUE=DATE:20251001
DTSTAMP:20260421T214205
CREATED:20250828T213754Z
LAST-MODIFIED:20250828T213913Z
UID:9402-1756670400-1759262399@stopoverdose.maryland.gov
SUMMARY:Give Two Sheets For Recovery
DESCRIPTION:**This event will last entire month of September** Make a difference for individuals continuing their journey to recovery housing. Please consider donating new twin sheets\, blankets\, pillows and pillowcases. Lookout for the white laundry baskets located in partnering businesses throughout Kent County\, drop off at Recovery Motion or call us to arrange pickup. Please feel free call/text Jennifer with any questions 443-480-1284
URL:https://stopoverdose.maryland.gov/calendar/give-two-sheets-for-recovery/
LOCATION:Kent County\, MD
END:VEVENT
BEGIN:VEVENT
DTSTART;VALUE=DATE:20250831
DTEND;VALUE=DATE:20251001
DTSTAMP:20260421T214205
CREATED:20250821T215442Z
LAST-MODIFIED:20250821T215505Z
UID:9318-1756670400-1759262399@stopoverdose.maryland.gov
SUMMARY:Recovery Month Business Challenge
DESCRIPTION:Calling all Somerset County Businesses! Show your support for recovery from substance misuse by joining the Recovery Month Business Challenge  \n 
URL:https://stopoverdose.maryland.gov/calendar/recovery-month-business-challenge/
LOCATION:MD
END:VEVENT
BEGIN:VEVENT
DTSTART;VALUE=DATE:20250903
DTEND;VALUE=DATE:20251001
DTSTAMP:20260421T214205
CREATED:20250731T225343Z
LAST-MODIFIED:20250903T220447Z
UID:9091-1756929600-1759262399@stopoverdose.maryland.gov
SUMMARY:7th Annual Washington Goes Purple Exhibit
DESCRIPTION:The Art of Overcoming: Healing Through Creativity Sept 4th-30th Submit up to 3 visual works and one written work to WashCo Arts by applying by August 5th and stop the stigma surrounding recovery:\nhttps://www.washingtongoespurple.com/events\n(submission deadline August 5th at 6pm) \n \n  \n 
URL:https://stopoverdose.maryland.gov/calendar/opening-reception-7th-annual-washington-goes-purple-exhibit/
LOCATION:Washington County Arts Council
ORGANIZER;CN="Washington Goes Purple":MAILTO:washingtongoespurple@gmail.com
END:VEVENT
BEGIN:VEVENT
DTSTART;TZID=America/New_York:20250913T060000
DTEND;TZID=America/New_York:20250927T080000
DTSTAMP:20260421T214205
CREATED:20250912T010008Z
LAST-MODIFIED:20250912T010213Z
UID:9585-1757743200-1758960000@stopoverdose.maryland.gov
SUMMARY:Flourish In Motion: September series every Saturday 10am-12pm
DESCRIPTION:🌿 Flourish In Motion: FREE Weekly Holistic Wellness Series 🌿 This Saturday\, September 13th | 10:00 AM – 12:00 PM Hands-On Energy: Mini Reiki Sessions + Energy Balance Talk Ages 13+ Light Refreshments Provided 📍 Flourishing Minds Wellness Center 8890 McDonogh Rd\, Suite 103 Owings Mills\, MD 21117
URL:https://stopoverdose.maryland.gov/calendar/flourish-in-motion-september-series-every-saturday-10am-12pm/
LOCATION:Flourishing Minds Wellness Center 8890 McDonogh Rd\, Suite 103 Owings Mills\, MD 21117
ORGANIZER;CN="Flourishing Minds Wellness Center":MAILTO:jmallory@flourishingmindswellness.com
END:VEVENT
BEGIN:VEVENT
DTSTART;VALUE=DATE:20250919
DTEND;VALUE=DATE:20250921
DTSTAMP:20260421T214205
CREATED:20250731T233954Z
LAST-MODIFIED:20250731T233954Z
UID:9154-1758312000-1758398399@stopoverdose.maryland.gov
SUMMARY:8th Annual Recovery Softball Game HEAT and STREET
DESCRIPTION:
URL:https://stopoverdose.maryland.gov/calendar/8th-annual-recovery-softball-game-heat-and-street/
LOCATION:Pip Moyer Recreation Center\, Truxtun Park (Back Field)
END:VEVENT
BEGIN:VEVENT
DTSTART;TZID=America/New_York:20250920T050000
DTEND;TZID=America/New_York:20250920T080000
DTSTAMP:20260421T214205
CREATED:20250715T173254Z
LAST-MODIFIED:20250715T173425Z
UID:8978-1758344400-1758355200@stopoverdose.maryland.gov
SUMMARY:4th Annual Walk for Recovery
DESCRIPTION:Join us for this free\, family-friendly event to celebrate and support those in recovery!\nAttendees will receive a t-shirt and water bottle (while supplies last). Recovery resources and information will be available. Come walk\, connect\, and celebrate!\n\nFeatured activities include:\nDJRecovery PoetryLawn GamesGiveawaysNaloxone/Narcan® TrainingRock Painting & Face PaintingPeer Support\nRegister Here: https://docs.google.com/…/1FAIpQLSfHafvQZYqS11…/viewform\n\nRegistration is highly recommended\, but not required to attend.
URL:https://stopoverdose.maryland.gov/calendar/4th-annual-walk-for-recovery/
LOCATION:Leonardtown Square
ORGANIZER;CN="St. Mary's County Health Department":MAILTO:taylor.nickerson@maryland.gov
END:VEVENT
BEGIN:VEVENT
DTSTART;TZID=America/New_York:20250920T050000
DTEND;TZID=America/New_York:20250920T080000
DTSTAMP:20260421T214205
CREATED:20250828T215806Z
LAST-MODIFIED:20250828T215806Z
UID:9427-1758344400-1758355200@stopoverdose.maryland.gov
SUMMARY:Caroline County Memory Walk
DESCRIPTION:
URL:https://stopoverdose.maryland.gov/calendar/caroline-county-memory-walk/
LOCATION:James T. Wright Park\, Preston MD
END:VEVENT
BEGIN:VEVENT
DTSTART;TZID=America/New_York:20250920T050000
DTEND;TZID=America/New_York:20250920T110000
DTSTAMP:20260421T214205
CREATED:20250828T220642Z
LAST-MODIFIED:20250828T220642Z
UID:9442-1758344400-1758366000@stopoverdose.maryland.gov
SUMMARY:Recovery Kickball Tournament
DESCRIPTION:
URL:https://stopoverdose.maryland.gov/calendar/recovery-kickball-tournament/
LOCATION:Pinecliff Park\, Frederick\, MD
END:VEVENT
BEGIN:VEVENT
DTSTART;TZID=America/New_York:20250920T060000
DTEND;TZID=America/New_York:20250920T100000
DTSTAMP:20260421T214205
CREATED:20250731T233656Z
LAST-MODIFIED:20250731T233756Z
UID:9151-1758348000-1758362400@stopoverdose.maryland.gov
SUMMARY:Recovery Walk with Ryan Leaf
DESCRIPTION:Our 2025 Recovery Walk Speaker will be Ryan Leaf!\nLeaf is the CEO of RAM Consultant\, Inc. as well as a college and NFL football game analyst for Westwood One Sports & the CFB lead analyst for CW Sports. He continues to host his SiriusXM radio show on NFL Radio and is an analyst with VSiN Live.\nHe continues to lean into conversations with the justice impacted and those involved with criminal justice reform. He travels and speaks to communities around the country addressing the mental health and substance abuse stigma. He is also an Ambassador in Recovery partnering with the Menninger Clinic. \n 
URL:https://stopoverdose.maryland.gov/calendar/recovery-walk/
LOCATION:Meritus Park\, Hagerstown MD
ORGANIZER;CN="Washington Goes Purple":MAILTO:washingtongoespurple@gmail.com
END:VEVENT
BEGIN:VEVENT
DTSTART;TZID=America/New_York:20250920T080000
DTEND;TZID=America/New_York:20250920T130000
DTSTAMP:20260421T214205
CREATED:20250909T191035Z
LAST-MODIFIED:20250909T191041Z
UID:9538-1758355200-1758373200@stopoverdose.maryland.gov
SUMMARY:Recovery Wellness Retreat
DESCRIPTION:Tree of Hope’s Recovery Wellness Retreat is designed to remove the stigma of recovery and substance use disorder. We are inviting the entire community to join us in a day of fun and education about substance abuse and mental health issues. This event will have recovery speakers\, basketball tournament\, volleyball tournament\, vendors selling recovery items and community organizations sharing resources.
URL:https://stopoverdose.maryland.gov/calendar/recovery-wellness-retreat/
LOCATION:Bohrer Park\, 506 S. Frederick Avenue\, Gaithersburg\, MD
ORGANIZER;CN="Tree of Hope Association":MAILTO:christi@treeofhopeassn.com
END:VEVENT
END:VCALENDAR