BEGIN:VCALENDAR
VERSION:2.0
PRODID:-//OOCC - ECPv6.15.17.1//NONSGML v1.0//EN
CALSCALE:GREGORIAN
METHOD:PUBLISH
X-ORIGINAL-URL:https://stopoverdose.maryland.gov
X-WR-CALDESC:Events for OOCC
REFRESH-INTERVAL;VALUE=DURATION:PT1H
X-Robots-Tag:noindex
X-PUBLISHED-TTL:PT1H
BEGIN:VTIMEZONE
TZID:America/New_York
BEGIN:DAYLIGHT
TZOFFSETFROM:-0500
TZOFFSETTO:-0400
TZNAME:EDT
DTSTART:20240310T070000
END:DAYLIGHT
BEGIN:STANDARD
TZOFFSETFROM:-0400
TZOFFSETTO:-0500
TZNAME:EST
DTSTART:20241103T060000
END:STANDARD
BEGIN:DAYLIGHT
TZOFFSETFROM:-0500
TZOFFSETTO:-0400
TZNAME:EDT
DTSTART:20250309T070000
END:DAYLIGHT
BEGIN:STANDARD
TZOFFSETFROM:-0400
TZOFFSETTO:-0500
TZNAME:EST
DTSTART:20251102T060000
END:STANDARD
BEGIN:DAYLIGHT
TZOFFSETFROM:-0500
TZOFFSETTO:-0400
TZNAME:EDT
DTSTART:20260308T070000
END:DAYLIGHT
BEGIN:STANDARD
TZOFFSETFROM:-0400
TZOFFSETTO:-0500
TZNAME:EST
DTSTART:20261101T060000
END:STANDARD
END:VTIMEZONE
BEGIN:VEVENT
DTSTART;VALUE=DATE:20250831
DTEND;VALUE=DATE:20251001
DTSTAMP:20260421T200559
CREATED:20250828T213754Z
LAST-MODIFIED:20250828T213913Z
UID:9402-1756670400-1759262399@stopoverdose.maryland.gov
SUMMARY:Give Two Sheets For Recovery
DESCRIPTION:**This event will last entire month of September** Make a difference for individuals continuing their journey to recovery housing. Please consider donating new twin sheets\, blankets\, pillows and pillowcases. Lookout for the white laundry baskets located in partnering businesses throughout Kent County\, drop off at Recovery Motion or call us to arrange pickup. Please feel free call/text Jennifer with any questions 443-480-1284
URL:https://stopoverdose.maryland.gov/calendar/give-two-sheets-for-recovery/
LOCATION:Kent County\, MD
END:VEVENT
BEGIN:VEVENT
DTSTART;VALUE=DATE:20250831
DTEND;VALUE=DATE:20251001
DTSTAMP:20260421T200559
CREATED:20250821T215442Z
LAST-MODIFIED:20250821T215505Z
UID:9318-1756670400-1759262399@stopoverdose.maryland.gov
SUMMARY:Recovery Month Business Challenge
DESCRIPTION:Calling all Somerset County Businesses! Show your support for recovery from substance misuse by joining the Recovery Month Business Challenge  \n 
URL:https://stopoverdose.maryland.gov/calendar/recovery-month-business-challenge/
LOCATION:MD
END:VEVENT
BEGIN:VEVENT
DTSTART;VALUE=DATE:20250903
DTEND;VALUE=DATE:20251001
DTSTAMP:20260421T200559
CREATED:20250731T225343Z
LAST-MODIFIED:20250903T220447Z
UID:9091-1756929600-1759262399@stopoverdose.maryland.gov
SUMMARY:7th Annual Washington Goes Purple Exhibit
DESCRIPTION:The Art of Overcoming: Healing Through Creativity Sept 4th-30th Submit up to 3 visual works and one written work to WashCo Arts by applying by August 5th and stop the stigma surrounding recovery:\nhttps://www.washingtongoespurple.com/events\n(submission deadline August 5th at 6pm) \n \n  \n 
URL:https://stopoverdose.maryland.gov/calendar/opening-reception-7th-annual-washington-goes-purple-exhibit/
LOCATION:Washington County Arts Council
ORGANIZER;CN="Washington Goes Purple":MAILTO:washingtongoespurple@gmail.com
END:VEVENT
BEGIN:VEVENT
DTSTART;TZID=America/New_York:20250913T040000
DTEND;TZID=America/New_York:20250913T190000
DTSTAMP:20260421T200559
CREATED:20250630T200859Z
LAST-MODIFIED:20250630T201032Z
UID:8797-1757736000-1757790000@stopoverdose.maryland.gov
SUMMARY:Run For Recovery 5k and 1 mile Walk
DESCRIPTION:Adams Light “Run for Recovery” 5k | 1 Mile Walk \nHoneygo Regional Park\n9033 Honeygo Blvd\nPerry Hall\, MD US 21128 \n\n\nAdam was one to always lend a hand so in his name we are supporting those in recovery! Adams Light\, Inc. is a 501c(3) charity supporting men and women in recovery 
URL:https://stopoverdose.maryland.gov/calendar/8797/
LOCATION:Honeygo Regional Park 9033 Honeygo Blvd Perry Hall\, MD US 21128
ORGANIZER;CN="Adam's Light":MAILTO:adamslight4ever39@gmail.com
END:VEVENT
BEGIN:VEVENT
DTSTART;TZID=America/New_York:20250913T050000
DTEND;TZID=America/New_York:20250913T080000
DTSTAMP:20260421T200559
CREATED:20250731T231146Z
LAST-MODIFIED:20250731T231250Z
UID:9119-1757739600-1757750400@stopoverdose.maryland.gov
SUMMARY:Purple Paddle
DESCRIPTION:You are receiving this email because we thought you may be interested in tabling at the Purple Paddle that will be happening on September 13\, 2025\, from 9-12 at Martinek State Park Boat Landing. We are very excited about this Caroline Goes Purple Event in honor of Recovery Month I have provided the event flyer if you are interested in participating in the Purple Paddle. The link below will take you to the registration form if you would like to set-up a table during this event\, where you can share resources and/or educate the community about the services that you provide. Let me know if you have any questions. We hope to see you there. \nhttps://docs.google.com/forms/d/e/1FAIpQLSdztgHD6Y4mqmoMySxNcYUiK-J5tRaXOJow2vMHgLSpe8R6gA/viewform?usp=header \n \n 
URL:https://stopoverdose.maryland.gov/calendar/purple-paddle/
LOCATION:Martinak State Park Boat Landing
END:VEVENT
BEGIN:VEVENT
DTSTART;TZID=America/New_York:20250913T060000
DTEND;TZID=America/New_York:20250913T100000
DTSTAMP:20260421T200559
CREATED:20250407T200310Z
LAST-MODIFIED:20250407T200331Z
UID:8276-1757743200-1757757600@stopoverdose.maryland.gov
SUMMARY:Smithsburg Goes Purple
DESCRIPTION:
URL:https://stopoverdose.maryland.gov/calendar/smithsburg-goes-purple/
LOCATION:Veterans Park\, Smithsburg\, MD\, United States
ORGANIZER;CN="Smithburg Goes Purple":MAILTO:crystal.awareness@gmail.com
END:VEVENT
BEGIN:VEVENT
DTSTART;TZID=America/New_York:20250913T060000
DTEND;TZID=America/New_York:20250927T080000
DTSTAMP:20260421T200559
CREATED:20250912T010008Z
LAST-MODIFIED:20250912T010213Z
UID:9585-1757743200-1758960000@stopoverdose.maryland.gov
SUMMARY:Flourish In Motion: September series every Saturday 10am-12pm
DESCRIPTION:🌿 Flourish In Motion: FREE Weekly Holistic Wellness Series 🌿 This Saturday\, September 13th | 10:00 AM – 12:00 PM Hands-On Energy: Mini Reiki Sessions + Energy Balance Talk Ages 13+ Light Refreshments Provided 📍 Flourishing Minds Wellness Center 8890 McDonogh Rd\, Suite 103 Owings Mills\, MD 21117
URL:https://stopoverdose.maryland.gov/calendar/flourish-in-motion-september-series-every-saturday-10am-12pm/
LOCATION:Flourishing Minds Wellness Center 8890 McDonogh Rd\, Suite 103 Owings Mills\, MD 21117
ORGANIZER;CN="Flourishing Minds Wellness Center":MAILTO:jmallory@flourishingmindswellness.com
END:VEVENT
BEGIN:VEVENT
DTSTART;TZID=America/New_York:20250913T070000
DTEND;TZID=America/New_York:20250913T100000
DTSTAMP:20260421T200559
CREATED:20250828T220103Z
LAST-MODIFIED:20250828T220103Z
UID:9432-1757746800-1757757600@stopoverdose.maryland.gov
SUMMARY:Recovery Month Kick Off
DESCRIPTION:
URL:https://stopoverdose.maryland.gov/calendar/recovery-month-kick-off/
LOCATION:Meadow Park\, Elkton MD
END:VEVENT
BEGIN:VEVENT
DTSTART;TZID=America/New_York:20250913T070000
DTEND;TZID=America/New_York:20250913T110000
DTSTAMP:20260421T200559
CREATED:20250731T231437Z
LAST-MODIFIED:20250731T231558Z
UID:9125-1757746800-1757761200@stopoverdose.maryland.gov
SUMMARY:Walk For Recovery
DESCRIPTION:We are excited to host the third annual Garrett County Walk for Recovery! We will walk to stomp out the stigma of addiction and celebrate recovery one step at a time
URL:https://stopoverdose.maryland.gov/calendar/walk-for-recovery-2/
LOCATION:Broadford Lake Park\, Oakland MD
ORGANIZER;CN="Reflection House":MAILTO:hello@reflectionhouse.org
END:VEVENT
BEGIN:VEVENT
DTSTART;TZID=America/New_York:20250913T070000
DTEND;TZID=America/New_York:20250913T130000
DTSTAMP:20260421T200559
CREATED:20250715T165241Z
LAST-MODIFIED:20250715T165531Z
UID:8966-1757746800-1757768400@stopoverdose.maryland.gov
SUMMARY:2025 Drug Education & Awareness Sporting Festival
DESCRIPTION:Free Community Event! Saturday\, September 13th 11AM-5PM on Griscom Field. \n“Supporting a DRUG FREE Annapolis” \nAll local drug and education organizations are invited. For more information call 954.850.9405!
URL:https://stopoverdose.maryland.gov/calendar/2025-drug-education-awareness-sporting-festival/
LOCATION:Pip Moyer Recreation Center\, Truxtun Park
ORGANIZER;CN="Recovery Awareness Foundation Inc.":MAILTO:ngentry@recoveryawarenessfoundation.org
END:VEVENT
BEGIN:VEVENT
DTSTART;TZID=America/New_York:20250913T080000
DTEND;TZID=America/New_York:20250913T120000
DTSTAMP:20260421T200559
CREATED:20250731T231655Z
LAST-MODIFIED:20250731T231838Z
UID:9131-1757750400-1757764800@stopoverdose.maryland.gov
SUMMARY:Recovery Works
DESCRIPTION:We will be celebrating the strength and resilence of individuals and their families that are on their journey to recovery. This event will provide: food\, door prizes\, music\, face painting\, peer support\, recovery speakers\, resource vendors and harm reduction services \n \n 
URL:https://stopoverdose.maryland.gov/calendar/recovery-works/
LOCATION:County Lot on the corner of race street and cedar street cambridge\, md
END:VEVENT
BEGIN:VEVENT
DTSTART;TZID=America/New_York:20250913T080000
DTEND;TZID=America/New_York:20250913T130000
DTSTAMP:20260421T200559
CREATED:20250630T191432Z
LAST-MODIFIED:20250715T172602Z
UID:8773-1757750400-1757768400@stopoverdose.maryland.gov
SUMMARY:SOBER LIVIN 2025 - Hope and Healing Fest
DESCRIPTION:We’re back for our 5th year in a row and we aim to make it our best yet! In line with our mission and the spirit of our website\, we are inviting local organizations and resources—such as treatment centers\, nonprofits\, police\, and emergency services—to participate and share what they do to support our community. Our goal is to strengthen connections and ensure that those in need know where to turn for help. Join us for your favorite activities\, including swimming\, music\, delicious food\, a balloon artist\, glitter tattoos\, reptiles\, and more! \nWe are proud to support The HOFFA Foundation and their transportation program. All proceeds will directly help individuals access the treatment and support they need. \nAccess to treatment remains a significant challenge. Without reliable transportation\, many cannot begin their recovery journey. The HOFFA Foundation provides free\, one-way rides across Maryland for individuals facing addiction and in urgent need of care. Transportation is a critical gap in the continuum of recovery\, and this dedicated nonprofit is actively working to bridge that gap. Their impactful work is made possible through generous support like yours. \nJoin us in backing The HOFFA Foundation and their mission to give every individual the chance to start their path to recovery. Every donation means another ride\, another opportunity\, and another life transformed.
URL:https://stopoverdose.maryland.gov/calendar/sober-livin-2025-hope-healing-fest/
LOCATION:Coppermine Cascade Park 2844 Snydersburg RD\, Hampstead\, MD 21704
ORGANIZER;CN="Sober Livin Foundation":MAILTO:Info@soberlivin.org
END:VEVENT
BEGIN:VEVENT
DTSTART;TZID=America/New_York:20250913T080000
DTEND;TZID=America/New_York:20250913T140000
DTSTAMP:20260421T200559
CREATED:20250828T215426Z
LAST-MODIFIED:20250828T215426Z
UID:9422-1757750400-1757772000@stopoverdose.maryland.gov
SUMMARY:18th Annual Recovery Rally Run & Walk
DESCRIPTION:
URL:https://stopoverdose.maryland.gov/calendar/18th-annual-recovery-rally-run-walk/
LOCATION:Eager Park
END:VEVENT
END:VCALENDAR