BEGIN:VCALENDAR
VERSION:2.0
PRODID:-//OOCC - ECPv6.15.17.1//NONSGML v1.0//EN
CALSCALE:GREGORIAN
METHOD:PUBLISH
X-WR-CALNAME:OOCC
X-ORIGINAL-URL:https://stopoverdose.maryland.gov
X-WR-CALDESC:Events for OOCC
REFRESH-INTERVAL;VALUE=DURATION:PT1H
X-Robots-Tag:noindex
X-PUBLISHED-TTL:PT1H
BEGIN:VTIMEZONE
TZID:America/New_York
BEGIN:DAYLIGHT
TZOFFSETFROM:-0500
TZOFFSETTO:-0400
TZNAME:EDT
DTSTART:20240310T070000
END:DAYLIGHT
BEGIN:STANDARD
TZOFFSETFROM:-0400
TZOFFSETTO:-0500
TZNAME:EST
DTSTART:20241103T060000
END:STANDARD
BEGIN:DAYLIGHT
TZOFFSETFROM:-0500
TZOFFSETTO:-0400
TZNAME:EDT
DTSTART:20250309T070000
END:DAYLIGHT
BEGIN:STANDARD
TZOFFSETFROM:-0400
TZOFFSETTO:-0500
TZNAME:EST
DTSTART:20251102T060000
END:STANDARD
BEGIN:DAYLIGHT
TZOFFSETFROM:-0500
TZOFFSETTO:-0400
TZNAME:EDT
DTSTART:20260308T070000
END:DAYLIGHT
BEGIN:STANDARD
TZOFFSETFROM:-0400
TZOFFSETTO:-0500
TZNAME:EST
DTSTART:20261101T060000
END:STANDARD
END:VTIMEZONE
BEGIN:VEVENT
DTSTART;VALUE=DATE:20250831
DTEND;VALUE=DATE:20251001
DTSTAMP:20260421T154349
CREATED:20250828T213754Z
LAST-MODIFIED:20250828T213913Z
UID:9402-1756670400-1759262399@stopoverdose.maryland.gov
SUMMARY:Give Two Sheets For Recovery
DESCRIPTION:**This event will last entire month of September** Make a difference for individuals continuing their journey to recovery housing. Please consider donating new twin sheets\, blankets\, pillows and pillowcases. Lookout for the white laundry baskets located in partnering businesses throughout Kent County\, drop off at Recovery Motion or call us to arrange pickup. Please feel free call/text Jennifer with any questions 443-480-1284
URL:https://stopoverdose.maryland.gov/calendar/give-two-sheets-for-recovery/
LOCATION:Kent County\, MD
END:VEVENT
BEGIN:VEVENT
DTSTART;VALUE=DATE:20250831
DTEND;VALUE=DATE:20251001
DTSTAMP:20260421T154349
CREATED:20250821T215442Z
LAST-MODIFIED:20250821T215505Z
UID:9318-1756670400-1759262399@stopoverdose.maryland.gov
SUMMARY:Recovery Month Business Challenge
DESCRIPTION:Calling all Somerset County Businesses! Show your support for recovery from substance misuse by joining the Recovery Month Business Challenge  \n 
URL:https://stopoverdose.maryland.gov/calendar/recovery-month-business-challenge/
LOCATION:MD
END:VEVENT
BEGIN:VEVENT
DTSTART;VALUE=DATE:20250903
DTEND;VALUE=DATE:20251001
DTSTAMP:20260421T154349
CREATED:20250731T225343Z
LAST-MODIFIED:20250903T220447Z
UID:9091-1756929600-1759262399@stopoverdose.maryland.gov
SUMMARY:7th Annual Washington Goes Purple Exhibit
DESCRIPTION:The Art of Overcoming: Healing Through Creativity Sept 4th-30th Submit up to 3 visual works and one written work to WashCo Arts by applying by August 5th and stop the stigma surrounding recovery:\nhttps://www.washingtongoespurple.com/events\n(submission deadline August 5th at 6pm) \n \n  \n 
URL:https://stopoverdose.maryland.gov/calendar/opening-reception-7th-annual-washington-goes-purple-exhibit/
LOCATION:Washington County Arts Council
ORGANIZER;CN="Washington Goes Purple":MAILTO:washingtongoespurple@gmail.com
END:VEVENT
BEGIN:VEVENT
DTSTART;TZID=America/New_York:20250911T060000
DTEND;TZID=America/New_York:20250911T073000
DTSTAMP:20260421T154349
CREATED:20250305T224327Z
LAST-MODIFIED:20250320T225631Z
UID:8077-1757570400-1757575800@stopoverdose.maryland.gov
SUMMARY:Maryland Overdose Response Advisory Council Meeting
DESCRIPTION:The Maryland Overdose Response Advisory Council is chaired by Lt. Governor Aruna Miller and includes representatives from 18 state agencies working to reduce overdose morbidity and mortality in Maryland. The advisory council shares data related to the overdose crisis across agencies and provides strategic guidance for increasing access to substance use care and addressing disparities in overdose outcomes. \nThursday\, September 11\, 2025 (in-person)\nTime: 10:00–11:30 a.m.\n100 State Cir\, Annapolis\, MD 21401\nGovernor’s Reception Room \nMeeting Link \nPublic Comment: Members of the public attending in person will have an opportunity to engage with the council and share their feedback at the end of each meeting\, time permitting. Please use the registration form below. Participants will be called on in the order in which their registration was received. \nPublic comment registration form: https://forms.gle/8QSi5a3GYyjmvcFu6  \nWritten testimony may also be submitted at any time by email to StopOverdose@maryland.gov. Written testimony will be shared with council members prior to the meeting.
URL:https://stopoverdose.maryland.gov/calendar/maryland-overdose-response-advisory-council-meeting-3/
LOCATION:MD
END:VEVENT
BEGIN:VEVENT
DTSTART;VALUE=DATE:20250911
DTEND;VALUE=DATE:20250913
DTSTAMP:20260421T154349
CREATED:20250731T230959Z
LAST-MODIFIED:20250731T230959Z
UID:9116-1757620800-1757707199@stopoverdose.maryland.gov
SUMMARY:Jersey Mike's Slice Out Substance Use Fundraiser
DESCRIPTION:On Friday\, September 12th\, join us for a special Jersey Mike’s fundraiser benefiting Washington Goes Purple! 🙌\nWhen you grab a delicious sandwich\, a 20% of the proceeds will help raise awareness and support\nHere’s how you can help:\n👉 Dine in\, take out\, or order online from your local Jersey Mike’s 👉 Mention Washington Goes Purple at checkout to contribute to the cause!\n📅 Date: Friday\, September 12th\n📍 Location: Participating Jersey Mike’s locations\n18015 Garland Groh Blvd\, Hagerstown\n1370 Dual Highway\, Hagerstown
URL:https://stopoverdose.maryland.gov/calendar/jersey-mikes-slice-out-substance-use-fundraiser/
LOCATION:Jersey Mikes\, Hagerstown MD
ORGANIZER;CN="Washington Goes Purple":MAILTO:washingtongoespurple@gmail.com
END:VEVENT
END:VCALENDAR