BEGIN:VCALENDAR
VERSION:2.0
PRODID:-//OOCC - ECPv6.15.17.1//NONSGML v1.0//EN
CALSCALE:GREGORIAN
METHOD:PUBLISH
X-ORIGINAL-URL:https://stopoverdose.maryland.gov
X-WR-CALDESC:Events for OOCC
REFRESH-INTERVAL;VALUE=DURATION:PT1H
X-Robots-Tag:noindex
X-PUBLISHED-TTL:PT1H
BEGIN:VTIMEZONE
TZID:America/New_York
BEGIN:DAYLIGHT
TZOFFSETFROM:-0500
TZOFFSETTO:-0400
TZNAME:EDT
DTSTART:20240310T070000
END:DAYLIGHT
BEGIN:STANDARD
TZOFFSETFROM:-0400
TZOFFSETTO:-0500
TZNAME:EST
DTSTART:20241103T060000
END:STANDARD
BEGIN:DAYLIGHT
TZOFFSETFROM:-0500
TZOFFSETTO:-0400
TZNAME:EDT
DTSTART:20250309T070000
END:DAYLIGHT
BEGIN:STANDARD
TZOFFSETFROM:-0400
TZOFFSETTO:-0500
TZNAME:EST
DTSTART:20251102T060000
END:STANDARD
BEGIN:DAYLIGHT
TZOFFSETFROM:-0500
TZOFFSETTO:-0400
TZNAME:EDT
DTSTART:20260308T070000
END:DAYLIGHT
BEGIN:STANDARD
TZOFFSETFROM:-0400
TZOFFSETTO:-0500
TZNAME:EST
DTSTART:20261101T060000
END:STANDARD
END:VTIMEZONE
BEGIN:VEVENT
DTSTART;TZID=America/New_York:20250831T140000
DTEND;TZID=America/New_York:20250831T160000
DTSTAMP:20260421T184607
CREATED:20250819T223008Z
LAST-MODIFIED:20250819T223055Z
UID:9267-1756648800-1756656000@stopoverdose.maryland.gov
SUMMARY:Unity in the Community Candlelight Vigil & Remembrance - IOAD 2025
DESCRIPTION:Join us as we come together to commemorate the lives of loved ones lost to overdose. This event will offer local resources and support\, followed by speaker jam\, candlelight vigil to share the message of remembrance\, healing and hope.
URL:https://stopoverdose.maryland.gov/calendar/unity-in-the-community-candlelight-vigil-remembrance-ioad-2025/
LOCATION:Fountain Park / Chestertown/Kent County
END:VEVENT
BEGIN:VEVENT
DTSTART;TZID=America/New_York:20250831T140000
DTEND;TZID=America/New_York:20250831T160000
DTSTAMP:20260421T184607
CREATED:20250828T214628Z
LAST-MODIFIED:20250828T214628Z
UID:9407-1756648800-1756656000@stopoverdose.maryland.gov
SUMMARY:Candlelight Ceremony for Overdose Awareness
DESCRIPTION:Join us for an evening of remembrance for those whose lives have been impacted by overdose.
URL:https://stopoverdose.maryland.gov/calendar/candlelight-ceremony-for-overdose-awareness/
LOCATION:Cumberland Downtown Mall
END:VEVENT
BEGIN:VEVENT
DTSTART;TZID=America/New_York:20250831T140000
DTEND;TZID=America/New_York:20250831T163000
DTSTAMP:20260421T184607
CREATED:20250819T222750Z
LAST-MODIFIED:20250819T222854Z
UID:9262-1756648800-1756657800@stopoverdose.maryland.gov
SUMMARY:International Overdose Awareness Day (IOAD)
DESCRIPTION:Every year we honor those gone too soon from substance use disorders while celebrating all in recovery. Resources\, demonstrations with EMS\, community leaders\, speakers in recovery and those who have lost loved one…we conclude with a touching candle lighting. All ages welcome\, no cost.
URL:https://stopoverdose.maryland.gov/calendar/international-overdose-awareness-day-ioad/
LOCATION:9120 Frederick Road\, Ellicott City\, MD 21042
END:VEVENT
BEGIN:VEVENT
DTSTART;TZID=America/New_York:20250831T140000
DTEND;TZID=America/New_York:20250831T170000
DTSTAMP:20260421T184607
CREATED:20250731T224800Z
LAST-MODIFIED:20250731T225036Z
UID:9085-1756648800-1756659600@stopoverdose.maryland.gov
SUMMARY:International Overdose Awareness Day Candlelight Vigil
DESCRIPTION:Join us as we come together to remember\, raise awareness\, and take action. This event honors the lives lost to overdose and supports those left behind.\nEvent details:\nAugust 31st\n6pm until 9pm\nDowntown Hagerstown Square\n💜 The evening will include:\n• A guest speaker\n• Local resource vendors\n• A special moment to honor your loved one — you’ll have the opportunity to say their name at the mic and place a candle in their memory
URL:https://stopoverdose.maryland.gov/calendar/international-overdose-awareness-day-candlelight-vigil/
LOCATION:Downtown Hagerstown\, Public Square
ORGANIZER;CN="Washington Goes Purple":MAILTO:washingtongoespurple@gmail.com
END:VEVENT
BEGIN:VEVENT
DTSTART;TZID=America/New_York:20250831T143000
DTEND;TZID=America/New_York:20250831T153000
DTSTAMP:20260421T184607
CREATED:20250902T201921Z
LAST-MODIFIED:20250902T201921Z
UID:9495-1756650600-1756654200@stopoverdose.maryland.gov
SUMMARY:IOAD Balloon Release/Candle Light
DESCRIPTION:On Sunday\, August 31\, 2025\, We Responders Inc. invites you to join us at Lake Montebello for International Overdose Awareness Day as we come together to honor the lives lost to overdose and stand in support of those still fighting. Beginning at 6:30 PM\, we will gather at the We Responders Hub (3504 Harford Rd\, Baltimore\, MD 21218) before moving to the lake for a candlelight vigil and a 7:00 PM balloon release—symbols of love\, healing\, and remembrance. This evening will be a space for reflection\, connection\, and unity as we raise awareness and spread hope throughout our community. If you are unable to attend in person\, we invite you to light a candle or release a purple balloon wherever you are and share your photo with We Responders Inc.\, joining us from near or far in lifting light and love for every life touched by overdose.
URL:https://stopoverdose.maryland.gov/calendar/ioad-balloon-release-candle-light/
LOCATION:Lake Montebello
ORGANIZER;CN="We Responders Inc":MAILTO:weresponders22@gmail.com
END:VEVENT
BEGIN:VEVENT
DTSTART;TZID=America/New_York:20250831T143000
DTEND;TZID=America/New_York:20250831T170000
DTSTAMP:20260421T184607
CREATED:20250630T191031Z
LAST-MODIFIED:20250630T191031Z
UID:8769-1756650600-1756659600@stopoverdose.maryland.gov
SUMMARY:Voices of Hope International Overdose Awareness Day Vigil
DESCRIPTION:We are currently preparing for our annual Overdose Vigil here in Cecil County\, a heartfelt evening dedicated to honoring and remembering the lives of those we’ve lost to overdose. \nThis vigil is a sacred space for families and friends to come together\, share memories\, and find comfort in community. It’s a time to reflect\, to grieve\, and to support one another as we hold space for those who are no longer with us. \nIn addition to remembrance\, we are committed to making sure that valuable resources are available to anyone in our community who may need support\, guidance\, or connection. \nWe’ve attached a flyer with more details about the event\, along with a google form if you’d like to set a table up. Your presence means so much\, and we hope you’ll join us in creating a night of compassion\, healing\, and unity. \nhttps://docs.google.com/forms/d/e/1FAIpQLScbVXHycQF4e8R6IVF-7PotVwGcD1lkdoC6UOhbFdU4SNqjPQ/viewform
URL:https://stopoverdose.maryland.gov/calendar/voices-of-hope-international-overdose-awareness-day-vigil/
LOCATION:North East Community Park – 219 W. Walnut Street\, North East MD
END:VEVENT
BEGIN:VEVENT
DTSTART;TZID=America/New_York:20250831T150000
DTEND;TZID=America/New_York:20250831T163000
DTSTAMP:20260421T184607
CREATED:20250607T015357Z
LAST-MODIFIED:20250607T015357Z
UID:8614-1756652400-1756657800@stopoverdose.maryland.gov
SUMMARY:International Overdose Awareness Day Vigil
DESCRIPTION:Join us as we come together for the Harford International Overdose Awareness Day Vigil—a solemn evening of remembrance\, reflection\, and hope. This annual event honors the lives lost to overdose\, supports those grieving\, and raises awareness about the ongoing impact of substance use in our community. \nWe invite families\, friends\, and allies to bring a photo or token of their loved one to be displayed and cherished. The vigil will include heartfelt stories\, moments of silence\, resource sharing\, and community connection. Free Narcan and harm reduction materials will be available. \nLet’s stand united in reducing stigma\, supporting recovery\, and showing that every life matters.
URL:https://stopoverdose.maryland.gov/calendar/international-overdose-awareness-day-vigil/
LOCATION:Millard Tydings Memorial Park\, Havre De Grace
END:VEVENT
BEGIN:VEVENT
DTSTART;TZID=America/New_York:20250831T150000
DTEND;TZID=America/New_York:20250831T163000
DTSTAMP:20260421T184607
CREATED:20250828T221439Z
LAST-MODIFIED:20250828T221439Z
UID:9456-1756652400-1756657800@stopoverdose.maryland.gov
SUMMARY:International Overdose Awareness Day 2025 Candlelight Vigil
DESCRIPTION:
URL:https://stopoverdose.maryland.gov/calendar/international-overdose-awareness-day-2025-candlelight-vigil/
LOCATION:Lexington Manor Passive Park
ORGANIZER;CN="St. Mary's County Health Department":MAILTO:taylor.nickerson@maryland.gov
END:VEVENT
BEGIN:VEVENT
DTSTART;VALUE=DATE:20250831
DTEND;VALUE=DATE:20251001
DTSTAMP:20260421T184607
CREATED:20250828T213754Z
LAST-MODIFIED:20250828T213913Z
UID:9402-1756670400-1759262399@stopoverdose.maryland.gov
SUMMARY:Give Two Sheets For Recovery
DESCRIPTION:**This event will last entire month of September** Make a difference for individuals continuing their journey to recovery housing. Please consider donating new twin sheets\, blankets\, pillows and pillowcases. Lookout for the white laundry baskets located in partnering businesses throughout Kent County\, drop off at Recovery Motion or call us to arrange pickup. Please feel free call/text Jennifer with any questions 443-480-1284
URL:https://stopoverdose.maryland.gov/calendar/give-two-sheets-for-recovery/
LOCATION:Kent County\, MD
END:VEVENT
BEGIN:VEVENT
DTSTART;VALUE=DATE:20250831
DTEND;VALUE=DATE:20251001
DTSTAMP:20260421T184607
CREATED:20250821T215442Z
LAST-MODIFIED:20250821T215505Z
UID:9318-1756670400-1759262399@stopoverdose.maryland.gov
SUMMARY:Recovery Month Business Challenge
DESCRIPTION:Calling all Somerset County Businesses! Show your support for recovery from substance misuse by joining the Recovery Month Business Challenge  \n 
URL:https://stopoverdose.maryland.gov/calendar/recovery-month-business-challenge/
LOCATION:MD
END:VEVENT
END:VCALENDAR