BEGIN:VCALENDAR
VERSION:2.0
PRODID:-//OOCC - ECPv6.15.17.1//NONSGML v1.0//EN
CALSCALE:GREGORIAN
METHOD:PUBLISH
X-ORIGINAL-URL:https://stopoverdose.maryland.gov
X-WR-CALDESC:Events for OOCC
REFRESH-INTERVAL;VALUE=DURATION:PT1H
X-Robots-Tag:noindex
X-PUBLISHED-TTL:PT1H
BEGIN:VTIMEZONE
TZID:America/New_York
BEGIN:DAYLIGHT
TZOFFSETFROM:-0500
TZOFFSETTO:-0400
TZNAME:EDT
DTSTART:20240310T070000
END:DAYLIGHT
BEGIN:STANDARD
TZOFFSETFROM:-0400
TZOFFSETTO:-0500
TZNAME:EST
DTSTART:20241103T060000
END:STANDARD
BEGIN:DAYLIGHT
TZOFFSETFROM:-0500
TZOFFSETTO:-0400
TZNAME:EDT
DTSTART:20250309T070000
END:DAYLIGHT
BEGIN:STANDARD
TZOFFSETFROM:-0400
TZOFFSETTO:-0500
TZNAME:EST
DTSTART:20251102T060000
END:STANDARD
BEGIN:DAYLIGHT
TZOFFSETFROM:-0500
TZOFFSETTO:-0400
TZNAME:EDT
DTSTART:20260308T070000
END:DAYLIGHT
BEGIN:STANDARD
TZOFFSETFROM:-0400
TZOFFSETTO:-0500
TZNAME:EST
DTSTART:20261101T060000
END:STANDARD
END:VTIMEZONE
BEGIN:VEVENT
DTSTART;TZID=America/New_York:20250827T150000
DTEND;TZID=America/New_York:20250827T163000
DTSTAMP:20260421T154647
CREATED:20250805T190645Z
LAST-MODIFIED:20250805T190848Z
UID:9191-1756306800-1756312200@stopoverdose.maryland.gov
SUMMARY:Sheila Vakharia presents "The Harm Reduction Gap" w/ the Maryland Alliance for Sensible Drug Policy
DESCRIPTION:Dr. Sheila Vakharia discusses the shortcomings of the dominant “Just Say No” drug prevention messages and abstinence-only treatment approaches\, introduces harm reduction strategies and technologies borne from people who use drugs themselves\, and suggests various policy options available as alternatives to the current policies that criminalize drugs\, drug-using equipment\, and the settings in which people use drugs. She concludes with a call to destigmatize drug use and support efforts to reform our drug policies. \nBy highlighting the large gap in our current approach to substance use – the harm reduction gap – this book is the first step for those interested in learning more about the limitations of our current approach to drug use and how to support local efforts to ensure people who use drugs and their communities can stay safe. \nSheila Vakharia PhD MSW is an author\, a speaker\, and a national expert on harm reduction and drug policy. She is currently the Deputy Director of the Department of Research and Academic Engagement at the Drug Policy Alliance\, the nation’s leading advocacy organization fighting to end the war on drugs. Dr. Vakharia brings over 15 years of combined experience in clinical social work in both treatment and harm reduction settings\, research\, teaching\, and policy advocacy to her work. \nThis book talk is hosted by the Maryland Alliance for Sensible Drug Policy\, a statewide advocacy group whose mission is to empower and mobilize people who use or have used drugs to fight for policies that protect their health\, wellness\, and autonomy. Founded in 2024\, the Alliance is led by people who use or have used drugs\, their loved ones\, and allies. Through research\, organizing\, education\, and grassroots lobbying\, the Alliance works to dismantle punitive drug policies and increase access to harm reduction programs\, evidence-based treatment\, and recovery support services.
URL:https://stopoverdose.maryland.gov/calendar/sheila-vakharia-presents-the-harm-reduction-gap-w-the-maryland-alliance-for-sensible-drug-policy/
LOCATION:Red Emma’s 3128 Greenmount AvenueBaltimore\, MD
END:VEVENT
BEGIN:VEVENT
DTSTART;TZID=America/New_York:20250827T150000
DTEND;TZID=America/New_York:20250827T170000
DTSTAMP:20260421T154647
CREATED:20250731T222322Z
LAST-MODIFIED:20250731T222626Z
UID:9048-1756306800-1756314000@stopoverdose.maryland.gov
SUMMARY:Remembering Love and Restoring Hope
DESCRIPTION:An event to honor the lives lost to overdose and provide support to family and friends left behind.
URL:https://stopoverdose.maryland.gov/calendar/remembering-love-restoring-hope/
LOCATION:Frederick County Community College\, 7932 Opossumtown Pike\, Frederick\, MD\, 21702\, United States
END:VEVENT
END:VCALENDAR