BEGIN:VCALENDAR
VERSION:2.0
PRODID:-//OOCC - ECPv6.15.17.1//NONSGML v1.0//EN
CALSCALE:GREGORIAN
METHOD:PUBLISH
X-ORIGINAL-URL:https://stopoverdose.maryland.gov
X-WR-CALDESC:Events for OOCC
REFRESH-INTERVAL;VALUE=DURATION:PT1H
X-Robots-Tag:noindex
X-PUBLISHED-TTL:PT1H
BEGIN:VTIMEZONE
TZID:America/New_York
BEGIN:DAYLIGHT
TZOFFSETFROM:-0500
TZOFFSETTO:-0400
TZNAME:EDT
DTSTART:20240310T070000
END:DAYLIGHT
BEGIN:STANDARD
TZOFFSETFROM:-0400
TZOFFSETTO:-0500
TZNAME:EST
DTSTART:20241103T060000
END:STANDARD
BEGIN:DAYLIGHT
TZOFFSETFROM:-0500
TZOFFSETTO:-0400
TZNAME:EDT
DTSTART:20250309T070000
END:DAYLIGHT
BEGIN:STANDARD
TZOFFSETFROM:-0400
TZOFFSETTO:-0500
TZNAME:EST
DTSTART:20251102T060000
END:STANDARD
BEGIN:DAYLIGHT
TZOFFSETFROM:-0500
TZOFFSETTO:-0400
TZNAME:EDT
DTSTART:20260308T070000
END:DAYLIGHT
BEGIN:STANDARD
TZOFFSETFROM:-0400
TZOFFSETTO:-0500
TZNAME:EST
DTSTART:20261101T060000
END:STANDARD
END:VTIMEZONE
BEGIN:VEVENT
DTSTART;TZID=America/New_York:20250820T090000
DTEND;TZID=America/New_York:20250820T110000
DTSTAMP:20260421T184607
CREATED:20250805T190330Z
LAST-MODIFIED:20250805T190400Z
UID:9186-1755680400-1755687600@stopoverdose.maryland.gov
SUMMARY:Stigma: In Our Work\, In Our Lives (Opioid-Focus)
DESCRIPTION:Free Online Webinar; “This 2 hour interactive webinar is designed to reduce stigmatizing behaviors\, attitudes and practices within the mental health and addiction recovery communities with a focus on opioid use disorders (OUD) and medication for OUD treatment (MOUD). Participants will examine the impact of substance use-related stigma on the behavioral health system and its stakeholders and develop strategies and action steps to remediate it both personally and within their organizations. \nThis event is an opioid-focused version of the flagship workshop that grew out of the foundational meetings of the Anti-Stigma Project\, specifically designed to replicate the knowledge and insights gained through that process.” \nhttps://www.onourownmd.org/s/campaign/701PK00000Wwls9YAB/stigma-in-our-work-in-our-lives-opioidfocus \nHosted by: On Our Own of Maryland\, Inc.
URL:https://stopoverdose.maryland.gov/calendar/stigma-in-our-work-in-our-lives-opioid-focus/
LOCATION:Virtual
END:VEVENT
END:VCALENDAR