BEGIN:VCALENDAR
VERSION:2.0
PRODID:-//OOCC - ECPv6.15.17.1//NONSGML v1.0//EN
CALSCALE:GREGORIAN
METHOD:PUBLISH
X-ORIGINAL-URL:https://stopoverdose.maryland.gov
X-WR-CALDESC:Events for OOCC
REFRESH-INTERVAL;VALUE=DURATION:PT1H
X-Robots-Tag:noindex
X-PUBLISHED-TTL:PT1H
BEGIN:VTIMEZONE
TZID:America/New_York
BEGIN:DAYLIGHT
TZOFFSETFROM:-0500
TZOFFSETTO:-0400
TZNAME:EDT
DTSTART:20240310T070000
END:DAYLIGHT
BEGIN:STANDARD
TZOFFSETFROM:-0400
TZOFFSETTO:-0500
TZNAME:EST
DTSTART:20241103T060000
END:STANDARD
BEGIN:DAYLIGHT
TZOFFSETFROM:-0500
TZOFFSETTO:-0400
TZNAME:EDT
DTSTART:20250309T070000
END:DAYLIGHT
BEGIN:STANDARD
TZOFFSETFROM:-0400
TZOFFSETTO:-0500
TZNAME:EST
DTSTART:20251102T060000
END:STANDARD
BEGIN:DAYLIGHT
TZOFFSETFROM:-0500
TZOFFSETTO:-0400
TZNAME:EDT
DTSTART:20260308T070000
END:DAYLIGHT
BEGIN:STANDARD
TZOFFSETFROM:-0400
TZOFFSETTO:-0500
TZNAME:EST
DTSTART:20261101T060000
END:STANDARD
END:VTIMEZONE
BEGIN:VEVENT
DTSTART;TZID=America/New_York:20250809T060000
DTEND;TZID=America/New_York:20250809T080000
DTSTAMP:20260421T184606
CREATED:20250805T190127Z
LAST-MODIFIED:20250805T190127Z
UID:9182-1754719200-1754726400@stopoverdose.maryland.gov
SUMMARY:Back To School Event hosted by American Diversity Group
DESCRIPTION:Back To School Event \nAmerican Diversity Group \nLocation 12210 Plum Orchard Drive Suite 214 Silver Spring MD 20910\n \nDistribution of Backpacks\nEducation resources on Opioid and Drug Overdose\nSpecialists at Site like Pain Management\, Ortho\, Ob Gyn.\nPeds. School Sports Physical\nGroceries Distribution
URL:https://stopoverdose.maryland.gov/calendar/back-to-school-event-hosted-by-american-diversity-group/
LOCATION:12210 Plum Orchard Drive Suite 214 Silver Spring MD 20910
END:VEVENT
BEGIN:VEVENT
DTSTART;TZID=America/New_York:20250809T080000
DTEND;TZID=America/New_York:20250809T120000
DTSTAMP:20260421T184606
CREATED:20250521T203453Z
LAST-MODIFIED:20250521T203600Z
UID:8557-1754726400-1754740800@stopoverdose.maryland.gov
SUMMARY:Hilda’s Foundation Speaker Jam
DESCRIPTION:Hilda’s Foundation will be hosting their 2nd Annual Speaker Jam on Saturday\, August 9th at Westminster City Park .
URL:https://stopoverdose.maryland.gov/calendar/hildas-foundation-speaker-jam-2/
LOCATION:MD
END:VEVENT
END:VCALENDAR