BEGIN:VCALENDAR
VERSION:2.0
PRODID:-//OOCC - ECPv6.15.17.1//NONSGML v1.0//EN
CALSCALE:GREGORIAN
METHOD:PUBLISH
X-ORIGINAL-URL:https://stopoverdose.maryland.gov
X-WR-CALDESC:Events for OOCC
REFRESH-INTERVAL;VALUE=DURATION:PT1H
X-Robots-Tag:noindex
X-PUBLISHED-TTL:PT1H
BEGIN:VTIMEZONE
TZID:America/New_York
BEGIN:DAYLIGHT
TZOFFSETFROM:-0500
TZOFFSETTO:-0400
TZNAME:EDT
DTSTART:20240310T070000
END:DAYLIGHT
BEGIN:STANDARD
TZOFFSETFROM:-0400
TZOFFSETTO:-0500
TZNAME:EST
DTSTART:20241103T060000
END:STANDARD
BEGIN:DAYLIGHT
TZOFFSETFROM:-0500
TZOFFSETTO:-0400
TZNAME:EDT
DTSTART:20250309T070000
END:DAYLIGHT
BEGIN:STANDARD
TZOFFSETFROM:-0400
TZOFFSETTO:-0500
TZNAME:EST
DTSTART:20251102T060000
END:STANDARD
BEGIN:DAYLIGHT
TZOFFSETFROM:-0500
TZOFFSETTO:-0400
TZNAME:EDT
DTSTART:20260308T070000
END:DAYLIGHT
BEGIN:STANDARD
TZOFFSETFROM:-0400
TZOFFSETTO:-0500
TZNAME:EST
DTSTART:20261101T060000
END:STANDARD
END:VTIMEZONE
BEGIN:VEVENT
DTSTART;VALUE=DATE:20250807
DTEND;VALUE=DATE:20250809
DTSTAMP:20260421T184607
CREATED:20250731T221659Z
LAST-MODIFIED:20250731T221659Z
UID:9036-1754596800-1754683199@stopoverdose.maryland.gov
SUMMARY:Jersey Mike's Slice Out Substance Use Fundraiser - Washington Goes Purple
DESCRIPTION:On Friday\, August 8th\, join us for a special Jersey Mike’s fundraiser benefiting Washington Goes Purple! 🙌\nWhen you grab a delicious sandwich\, a 20% of the proceeds will help raise awareness and support\nHere’s how you can help:\n👉 Dine in\, take out\, or order online from your local Jersey Mike’s 👉 Mention Washington Goes Purple at checkout to contribute to the cause!\n📅 Date: Friday\, August 8th\n📍 Location: Participating Jersey Mike’s locations\n18015 Garland Groh Blvd\, Hagerstown\n1370 Dual Highway\, Hagerstown
URL:https://stopoverdose.maryland.gov/calendar/jersey-mikes-slice-out-substance-use-fundraiser-washington-goes-purple/
LOCATION:Jersey Mikes\, Hagerstown MD
ORGANIZER;CN="Washington Goes Purple":MAILTO:washingtongoespurple@gmail.com
END:VEVENT
END:VCALENDAR